BEGIN:VCALENDAR
VERSION:2.0
PRODID:-//wp-events-plugin.com//7.2.3.1//EN
TZID:Europe/Paris
X-WR-TIMEZONE:Europe/Paris
BEGIN:VEVENT
UID:177@bananierbleu.fr
DTSTART;TZID=Europe/Paris:20120526T193000
DTEND;TZID=Europe/Paris:20120526T210000
DTSTAMP:20120404T134238Z
URL:https://bananierbleu.fr/concerts-test/caribeennes-de-mai-ines-khai/
SUMMARY:[Caribéennes de mai] Inès Khai - le Baiser Salé - 26 Mai 12 19:3
 0
DESCRIPTION:Inès Khai vocal \nKHAI est une chanteuse profondément guadelo
 upéenne\, dans sa langue qui reste CRÉOLE malgré l’exil\, dans sa pea
 u qui vibre sur les accords caribéens\, dans son cœur qui bat aux rythme
 s du TAMBOUR KA. Son enfance en France est aussi une enfance en Guadeloupe
  car\, dans la maison familiale\, c’est le créole et le son du ka qui r
 ésonnent. Aujourd’hui\, c’est le ka qui est au centre du nouveau rép
 ertoire pour conter l’histoire de Nèg lòt bò\, l’exilé\, celui qui
  chante une Guadeloupe fantasmée\, rêve\, maudit cet océan et ce voyage
  triangulaire. Nèg lòt bò accompagné d’une guitare et d’un KA pour
  chanter le BLUES du mal-aimé\, de celui qui cherche sa place ailleurs\, 
 derrière l'océan. \n
CATEGORIES:Concerts en France
LOCATION:le Baiser Salé\, 58\, rue des Lombards\, Paris\, Île de France\,
  75001\, IleDeFrance\, France
GEO:48.8598;2.34791
X-APPLE-STRUCTURED-LOCATION;VALUE=URI;X-ADDRESS=58\, rue des Lombards\, Par
 is\, Île de France\, 75001\, IleDeFrance\, France;X-APPLE-RADIUS=100;X-TI
 TLE=le Baiser Salé:geo:48.8598,2.34791
END:VEVENT
BEGIN:VTIMEZONE
TZID:Europe/Paris
X-LIC-LOCATION:Europe/Paris
BEGIN:DAYLIGHT
DTSTART:20120325T030000
TZOFFSETFROM:+0100
TZOFFSETTO:+0200
TZNAME:CEST
END:DAYLIGHT
END:VTIMEZONE
END:VCALENDAR