BEGIN:VCALENDAR
VERSION:2.0
PRODID:-//wp-events-plugin.com//7.2.3.1//EN
TZID:Europe/Paris
X-WR-TIMEZONE:Europe/Paris
BEGIN:VEVENT
UID:1779@bananierbleu.fr
DTSTART;TZID=Europe/Paris:20160505T213000
DTEND;TZID=Europe/Paris:20160505T213000
DTSTAMP:20160418T133822Z
URL:https://bananierbleu.fr/concerts-test/caribeennes-de-mai-jocelyn-menar
 d-quartet/
SUMMARY:[Caribéennes de Mai] Jocelyn Ménard quartet - le Baiser Salé - 5
  Mai 16 21:30
DESCRIPTION:Avec Jocelyn Ménard\, Julien Coriatt\, Max Fontès et Arnaud D
 olmen
ATTACH;FMTTYPE=image/jpeg:https://bananierbleu.fr/wp-content/uploads/2016/
 04/05-22-JOCELYN-MENARD-JAZZ-GROUP.jpg
CATEGORIES:Concerts en France
LOCATION:le Baiser Salé\, 58\, rue des Lombards\, Paris\, Île de France\,
  75001\, IleDeFrance\, France
GEO:48.8598;2.34791
X-APPLE-STRUCTURED-LOCATION;VALUE=URI;X-ADDRESS=58\, rue des Lombards\, Par
 is\, Île de France\, 75001\, IleDeFrance\, France;X-APPLE-RADIUS=100;X-TI
 TLE=le Baiser Salé:geo:48.8598,2.34791
END:VEVENT
BEGIN:VTIMEZONE
TZID:Europe/Paris
X-LIC-LOCATION:Europe/Paris
BEGIN:DAYLIGHT
DTSTART:20160327T030000
TZOFFSETFROM:+0100
TZOFFSETTO:+0200
TZNAME:CEST
END:DAYLIGHT
END:VTIMEZONE
END:VCALENDAR