BEGIN:VCALENDAR
VERSION:2.0
PRODID:-//wp-events-plugin.com//7.2.3.1//EN
TZID:Europe/Paris
X-WR-TIMEZONE:Europe/Paris
BEGIN:VEVENT
UID:505@bananierbleu.fr
DTSTART;TZID=Europe/Paris:20130527T193000
DTEND;TZID=Europe/Paris:20130527T193000
DTSTAMP:20130418T132946Z
URL:https://bananierbleu.fr/concerts-test/caribeennes-de-mai-jurion2/
SUMMARY:[Caribéennes de mai] - Jonathan Jurion trio - le Baiser Salé - 27
  Mai 13 19:30
DESCRIPTION:"Le Jazz De Demain" - Résidence\nJONATHAN JURION TRIO\nJonatha
 n Jurion piano\, Arnaud Dolmen batterie\,\nDamien Nueva cbsse\nNé à Ivry
 -sur-Seine et suite à de nombreuses rencontres\, expériences et collabor
 ations\, le jeune pianiste d’origine caribéenne crée une nouvelle form
 ation. Avec le batteur guadeloupéen\, Arnaud Dolmen\, et le contrebassist
 e cubain\, Damian Nueva\, il met le croisement des cultures à l’honneur
 . Un groove continuel et un sens du swing infaillible apporte un drive à 
 la fois puissant et fluide\, de ceux des trios de jazz\, tels que Chick Co
 rea\, Brad Meldhau\, Alain Jean-Marie\, Shaï Maestro.
CATEGORIES:Concerts en France
LOCATION:le Baiser Salé\, 58\, rue des Lombards\, Paris\, Île de France\,
  75001\, IleDeFrance\, France
GEO:48.8598;2.34791
X-APPLE-STRUCTURED-LOCATION;VALUE=URI;X-ADDRESS=58\, rue des Lombards\, Par
 is\, Île de France\, 75001\, IleDeFrance\, France;X-APPLE-RADIUS=100;X-TI
 TLE=le Baiser Salé:geo:48.8598,2.34791
END:VEVENT
BEGIN:VTIMEZONE
TZID:Europe/Paris
X-LIC-LOCATION:Europe/Paris
BEGIN:DAYLIGHT
DTSTART:20130331T030000
TZOFFSETFROM:+0100
TZOFFSETTO:+0200
TZNAME:CEST
END:DAYLIGHT
END:VTIMEZONE
END:VCALENDAR