BEGIN:VCALENDAR
VERSION:2.0
PRODID:-//wp-events-plugin.com//7.2.3.1//EN
TZID:Europe/Paris
X-WR-TIMEZONE:Europe/Paris
BEGIN:VEVENT
UID:490@bananierbleu.fr
DTSTART;TZID=Europe/Paris:20130509T213000
DTEND;TZID=Europe/Paris:20130509T213000
DTSTAMP:20130418T125749Z
URL:https://bananierbleu.fr/concerts-test/caribeennes-de-mai-mbappe/
SUMMARY:[Caribéennes de mai] - Etienne Mbappé & Su La Také - le Baiser S
 alé - 9 Mai 13 21:30
DESCRIPTION:ETIENNE MBAPPE & "Su La Take" 4ème !!\nCate Petit voix\, Clém
 ent Janinet violon\, Cédric Baud guitare\, Nicolas Viccaro batterie\, Eti
 enne MBappé basse/ voix.\nDernier mois de résidence ! Précipitez-vous !
  De guitariste autodidacte à bassiste et homme de scène. De musicien aya
 nt accompagné les grands noms de la musique\, comme Ray Charles\, Salif K
 eita\, Manu Dibango\, John McLaughlin\, A l’initiative de la création d
 ’Ultramarine au Trio de basses\, en passant par Chic Hot \, il est aujou
 rd’hui leader de son propre groupe Su la take\, Etienne Mbappé exprime 
 ses racines camerounaises\, dans sa langue maternelle le Douala\, s’insp
 irant de son histoire\, de ses voyages et de ses rencontres instrumentales
 . On a la chance d’avoir un aperçu de son dernier album – rythmes afr
 o - groove! 
CATEGORIES:Concerts en France
LOCATION:le Baiser Salé\, 58\, rue des Lombards\, Paris\, Île de France\,
  75001\, IleDeFrance\, France
GEO:48.8598;2.34791
X-APPLE-STRUCTURED-LOCATION;VALUE=URI;X-ADDRESS=58\, rue des Lombards\, Par
 is\, Île de France\, 75001\, IleDeFrance\, France;X-APPLE-RADIUS=100;X-TI
 TLE=le Baiser Salé:geo:48.8598,2.34791
END:VEVENT
BEGIN:VTIMEZONE
TZID:Europe/Paris
X-LIC-LOCATION:Europe/Paris
BEGIN:DAYLIGHT
DTSTART:20130331T030000
TZOFFSETFROM:+0100
TZOFFSETTO:+0200
TZNAME:CEST
END:DAYLIGHT
END:VTIMEZONE
END:VCALENDAR