BEGIN:VCALENDAR
VERSION:2.0
PRODID:-//wp-events-plugin.com//7.2.3.1//EN
TZID:Europe/Paris
X-WR-TIMEZONE:Europe/Paris
BEGIN:VEVENT
UID:485@bananierbleu.fr
DTSTART;TZID=Europe/Paris:20130504T194500
DTEND;TZID=Europe/Paris:20130504T194500
DTSTAMP:20130418T124801Z
URL:https://bananierbleu.fr/concerts-test/caribeennes-de-mai-napri/
SUMMARY:[Caribéennes de mai] - Florence Naprix - le Baiser Salé - 4 Mai 1
 3 19:45
DESCRIPTION:FLORENCE NAPRIX vous accueille au Baiser Salé\nStéphane Castr
 y basse\, Thierry Vaton piano\,\nSonny Troupé batterie\, Amen Viana guita
 re\,\nFlorence Naprix lead/voix.\nPlongez dans l'univers de Florence Napri
 x et de ses musiciens\, le temps d'une soirée au Baiser Salé. A l'occasi
 on des Caribéennes de Mai 2013\, la chanteuse guadeloupéenne vous invite
  à découvrir quelques titres de son premier album : Fann Kann. De la mus
 ique caribéenne\, ouverte sur le monde : biguine\, zouk\, jazz\, ka\, new
  jack\, rock... Des émotions fortes\, des histoires d'amour\, de vie\, de
  femmes\, de Guadeloupe. Des musiciens de talent : Stephane Castry\, Thier
 ry Vaton\, Amen Viana\, Sonny Troupé. Une excellente soirée en perspecti
 ve. 
CATEGORIES:Concerts en France
LOCATION:le Baiser Salé\, 58\, rue des Lombards\, Paris\, Île de France\,
  75001\, IleDeFrance\, France
GEO:48.8598;2.34791
X-APPLE-STRUCTURED-LOCATION;VALUE=URI;X-ADDRESS=58\, rue des Lombards\, Par
 is\, Île de France\, 75001\, IleDeFrance\, France;X-APPLE-RADIUS=100;X-TI
 TLE=le Baiser Salé:geo:48.8598,2.34791
END:VEVENT
BEGIN:VTIMEZONE
TZID:Europe/Paris
X-LIC-LOCATION:Europe/Paris
BEGIN:DAYLIGHT
DTSTART:20130331T030000
TZOFFSETFROM:+0100
TZOFFSETTO:+0200
TZNAME:CEST
END:DAYLIGHT
END:VTIMEZONE
END:VCALENDAR