BEGIN:VCALENDAR
VERSION:2.0
PRODID:-//wp-events-plugin.com//7.2.3.1//EN
TZID:Europe/Paris
X-WR-TIMEZONE:Europe/Paris
BEGIN:VEVENT
UID:182@bananierbleu.fr
DTSTART;TZID=Europe/Paris:20120531T213000
DTEND;TZID=Europe/Paris:20120531T233000
DTSTAMP:20120404T135324Z
URL:https://bananierbleu.fr/concerts-test/caribeennes-de-mai-orlando-poleo
 -chaworo/
SUMMARY:[Caribéennes de mai] Orlando Poleo "Chaworo" - le Baiser Salé - 3
 1 Mai 12 21:30
DESCRIPTION:Orlando Poleo congas/perc/chr\, Carlos Esposito chant/perc\, Al
 len Hoist sax/ flûte/ ch\, Renaud Palisseaux piano/chr\, Simon Ville timb
 al\, Philippe Slominski trmpt/choeurs\, Felix Toca bss/chr/perc.\nOrlando 
 occupe une place importante dans le paysage musical vénézuélien de par 
 son talent et sa musique qui fluctue entre jazz\, sons cubains et rythmes 
 afro vénézuéliens et conjugue tradition et modernité. Considéré l’
 un des meilleurs percussionnistes de la tendance du jazz latino mondial. 
 « Impeccable et passionné\, Orlando Poleo applique avec assurance la sci
 ence de la vibration à l’art de la fête » (M.Malanda)\n
CATEGORIES:Concerts en France
LOCATION:le Baiser Salé\, 58\, rue des Lombards\, Paris\, Île de France\,
  75001\, IleDeFrance\, France
GEO:48.8598;2.34791
X-APPLE-STRUCTURED-LOCATION;VALUE=URI;X-ADDRESS=58\, rue des Lombards\, Par
 is\, Île de France\, 75001\, IleDeFrance\, France;X-APPLE-RADIUS=100;X-TI
 TLE=le Baiser Salé:geo:48.8598,2.34791
END:VEVENT
BEGIN:VTIMEZONE
TZID:Europe/Paris
X-LIC-LOCATION:Europe/Paris
BEGIN:DAYLIGHT
DTSTART:20120325T030000
TZOFFSETFROM:+0100
TZOFFSETTO:+0200
TZNAME:CEST
END:DAYLIGHT
END:VTIMEZONE
END:VCALENDAR