BEGIN:VCALENDAR
VERSION:2.0
PRODID:-//wp-events-plugin.com//7.2.3.1//EN
TZID:Europe/Paris
X-WR-TIMEZONE:Europe/Paris
BEGIN:VEVENT
UID:183@bananierbleu.fr
DTSTART;TZID=Europe/Paris:20120529T193000
DTEND;TZID=Europe/Paris:20120529T210000
DTSTAMP:20120404T135446Z
URL:https://bananierbleu.fr/concerts-test/caribeennes-de-mai-traits-dunion
 s/
SUMMARY:[Caribéennes de mai] Traits d'Unions - le Baiser Salé - 29 Mai 12
  19:30
DESCRIPTION:Sébastien Jacques piano\, Kévin Gervais basse Jonathan Edo Le
 ad-compos-perc-chant\nTraits d'Unions (jazz world fusion) est un groupe é
 clectique\, dirigé par le jeune \npercussionniste / compositeur Jonathan 
 EDO.\nSa musique s'inspire profondément des musiques traditionnelles du B
 résil\, d'Afrique et de Cuba  et essaie d'établir des ponts\, entre ces 
 musiques qu'il affectionne et cotôie quotidiennement\, et le Jazz.\nMusiq
 ues de l'oralité et de l'écrit\, la rencontre de ces univers riches et p
 uissants emporte le public au cours d'un voyage qui permet d'abolir les fr
 ontières et les étiquettes\, le temps d'un instant ...\n
CATEGORIES:Concerts en France
LOCATION:le Baiser Salé\, 58\, rue des Lombards\, Paris\, Île de France\,
  75001\, IleDeFrance\, France
GEO:48.8598;2.34791
X-APPLE-STRUCTURED-LOCATION;VALUE=URI;X-ADDRESS=58\, rue des Lombards\, Par
 is\, Île de France\, 75001\, IleDeFrance\, France;X-APPLE-RADIUS=100;X-TI
 TLE=le Baiser Salé:geo:48.8598,2.34791
END:VEVENT
BEGIN:VTIMEZONE
TZID:Europe/Paris
X-LIC-LOCATION:Europe/Paris
BEGIN:DAYLIGHT
DTSTART:20120325T030000
TZOFFSETFROM:+0100
TZOFFSETTO:+0200
TZNAME:CEST
END:DAYLIGHT
END:VTIMEZONE
END:VCALENDAR