BEGIN:VCALENDAR
VERSION:2.0
PRODID:-//wp-events-plugin.com//7.2.3.1//EN
TZID:Europe/Paris
X-WR-TIMEZONE:Europe/Paris
BEGIN:VEVENT
UID:172@bananierbleu.fr
DTSTART;TZID=Europe/Paris:20120519T193000
DTEND;TZID=Europe/Paris:20120519T210000
DTSTAMP:20120404T133706Z
URL:https://bananierbleu.fr/concerts-test/caribeennes-de-mai-tricia-evy-da
 vid-fackeure/
SUMMARY:[Caribéennes de mai] Tricia Evy & David Fackeure - le Baiser Salé
  - 19 Mai 12 19:30
DESCRIPTION:Tricia Evy voc\, David Fackeure piano. \nDavid Fackeure\, n' a 
 jamais vécu aux Antilles\, et n'a pas d'ascendance antillaise. Et pourtan
 t\, comme aucun autre pianiste métropolitain\, il sait déployer avec une
  sincérité saisissante le swing viscéral de la biguine\, tout en avance
 s et en retards sur le temps\, en décalages subtiles entre les deux mains
 \, de même qu'il maîtrise merveilleusement la palette chamarrée des res
 sources mélodiques\, harmoniques et rytmiques propres à cette école gra
 ndissante du Jazz Biguine. \n
CATEGORIES:Concerts en France
LOCATION:le Baiser Salé\, 58\, rue des Lombards\, Paris\, Île de France\,
  75001\, IleDeFrance\, France
GEO:48.8598;2.34791
X-APPLE-STRUCTURED-LOCATION;VALUE=URI;X-ADDRESS=58\, rue des Lombards\, Par
 is\, Île de France\, 75001\, IleDeFrance\, France;X-APPLE-RADIUS=100;X-TI
 TLE=le Baiser Salé:geo:48.8598,2.34791
END:VEVENT
BEGIN:VTIMEZONE
TZID:Europe/Paris
X-LIC-LOCATION:Europe/Paris
BEGIN:DAYLIGHT
DTSTART:20120325T030000
TZOFFSETFROM:+0100
TZOFFSETTO:+0200
TZNAME:CEST
END:DAYLIGHT
END:VTIMEZONE
END:VCALENDAR