BEGIN:VCALENDAR
VERSION:2.0
PRODID:-//wp-events-plugin.com//7.2.3.1//EN
TZID:Europe/Paris
X-WR-TIMEZONE:Europe/Paris
BEGIN:VEVENT
UID:502@bananierbleu.fr
DTSTART;TZID=Europe/Paris:20130524T193000
DTEND;TZID=Europe/Paris:20130524T193000
DTSTAMP:20130418T132328Z
URL:https://bananierbleu.fr/concerts-test/caribeennes-de-mai-tricia-evy-gr
 egory-privat-2/
SUMMARY:[Caribéennes de mai] - Tricia Evy & Grégory Privat - le Baiser Sa
 lé - 24 Mai 13 19:30
DESCRIPTION:"Vocal / Caribéen"\n"De Kassav à Patrick Saint Eloi" - TRILOG
 IE TRICIA EVY invite\nGREGORY PRIVAT\nTricia Evy voix\, Grégory Privat pi
 ano.\nLa jeune chanteuse termine sa trilogie du mois au Baiser Salé en re
 ndant hommage à l’un des piliers du Zouk dans la Caraïbe. Pour l’acc
 ompagner\, qui mieux que le pianiste martiniquais prodige Grégory Privat!
  
CATEGORIES:Concerts en France
LOCATION:le Baiser Salé\, 58\, rue des Lombards\, Paris\, Île de France\,
  75001\, IleDeFrance\, France
GEO:48.8598;2.34791
X-APPLE-STRUCTURED-LOCATION;VALUE=URI;X-ADDRESS=58\, rue des Lombards\, Par
 is\, Île de France\, 75001\, IleDeFrance\, France;X-APPLE-RADIUS=100;X-TI
 TLE=le Baiser Salé:geo:48.8598,2.34791
END:VEVENT
BEGIN:VTIMEZONE
TZID:Europe/Paris
X-LIC-LOCATION:Europe/Paris
BEGIN:DAYLIGHT
DTSTART:20130331T030000
TZOFFSETFROM:+0100
TZOFFSETTO:+0200
TZNAME:CEST
END:DAYLIGHT
END:VTIMEZONE
END:VCALENDAR