BEGIN:VCALENDAR
VERSION:2.0
PRODID:-//wp-events-plugin.com//7.2.3.1//EN
TZID:Europe/Paris
X-WR-TIMEZONE:Europe/Paris
BEGIN:VEVENT
UID:173@bananierbleu.fr
DTSTART;TZID=Europe/Paris:20120522T193000
DTEND;TZID=Europe/Paris:20120522T210000
DTSTAMP:20120404T133815Z
URL:https://bananierbleu.fr/concerts-test/caribeennes-de-mai-tricia-evy-gr
 egory-privat/
SUMMARY:[Caribéennes de mai] Tricia Evy & Grégory Privat - le Baiser Sal
 é - 22 Mai 12 19:30
DESCRIPTION:Tricia Evy voc\, Gregory Privat piano.\nMélange de gwo-ka (ryt
 hmes antillais)\, de jazz et de mélodies des Caraïbes\, la musique de Gr
 égory Privat donne un nouveau souffle au jazz. Il propose une biguine jaz
 z superbe\, enorgueillie de sonorités caribéennes et soul irrésistibles
  qui se marient parfaitement aux à la voix pimentée de Tricia… Une ren
 contre exceptionnelle entre deux pointures de la nouvelle scène caribéen
 ne.. \n
CATEGORIES:Concerts en France
LOCATION:le Baiser Salé\, 58\, rue des Lombards\, Paris\, Île de France\,
  75001\, IleDeFrance\, France
GEO:48.8598;2.34791
X-APPLE-STRUCTURED-LOCATION;VALUE=URI;X-ADDRESS=58\, rue des Lombards\, Par
 is\, Île de France\, 75001\, IleDeFrance\, France;X-APPLE-RADIUS=100;X-TI
 TLE=le Baiser Salé:geo:48.8598,2.34791
END:VEVENT
BEGIN:VTIMEZONE
TZID:Europe/Paris
X-LIC-LOCATION:Europe/Paris
BEGIN:DAYLIGHT
DTSTART:20120325T030000
TZOFFSETFROM:+0100
TZOFFSETTO:+0200
TZNAME:CEST
END:DAYLIGHT
END:VTIMEZONE
END:VCALENDAR