BEGIN:VCALENDAR
VERSION:2.0
PRODID:-//wp-events-plugin.com//7.2.3.1//EN
TZID:Europe/Paris
X-WR-TIMEZONE:Europe/Paris
BEGIN:VEVENT
UID:496@bananierbleu.fr
DTSTART;TZID=Europe/Paris:20130518T193000
DTEND;TZID=Europe/Paris:20130518T193000
DTSTAMP:20130418T130927Z
URL:https://bananierbleu.fr/concerts-test/caribeennes-de-mai-tricia-evy-ma
 rio-canonge-2/
SUMMARY:[Caribéennes de mai] - Tricia Evy & Mario Canonge - le Baiser Sal
 é - 18 Mai 13 19:30
DESCRIPTION:"Vocal / Caribéen"\n"De Jocelyne Beroard à Edith Lefel"" - TR
 ILOGIE TRICIA EVY invite\nMARIO CANONGE\nTricia Evy voix\, Mario Canonge p
 iano.\nC’est son acolyte Mario Canonge que la jeune chanteuse\, de coule
 urs Jazz et Caraïbes\, choisit d’inviter pour rendre hommage aux voix f
 éminines du Zouk! Ça va secouer au Bal Chaud du Baiser Salé!
CATEGORIES:Concerts en France
LOCATION:le Baiser Salé\, 58\, rue des Lombards\, Paris\, Île de France\,
  75001\, IleDeFrance\, France
GEO:48.8598;2.34791
X-APPLE-STRUCTURED-LOCATION;VALUE=URI;X-ADDRESS=58\, rue des Lombards\, Par
 is\, Île de France\, 75001\, IleDeFrance\, France;X-APPLE-RADIUS=100;X-TI
 TLE=le Baiser Salé:geo:48.8598,2.34791
END:VEVENT
BEGIN:VTIMEZONE
TZID:Europe/Paris
X-LIC-LOCATION:Europe/Paris
BEGIN:DAYLIGHT
DTSTART:20130331T030000
TZOFFSETFROM:+0100
TZOFFSETTO:+0200
TZNAME:CEST
END:DAYLIGHT
END:VTIMEZONE
END:VCALENDAR