BEGIN:VCALENDAR
VERSION:2.0
PRODID:-//wp-events-plugin.com//7.2.3.1//EN
TZID:Europe/Paris
X-WR-TIMEZONE:Europe/Paris
BEGIN:VEVENT
UID:484@bananierbleu.fr
DTSTART;TZID=Europe/Paris:20130503T213000
DTEND;TZID=Europe/Paris:20130503T213000
DTSTAMP:20130418T124601Z
URL:https://bananierbleu.fr/concerts-test/caribeennes-de-mai/
SUMMARY:[Caribéennes de mai] - Jazz Bèlè Philosophy - le Baiser Salé - 
 3 Mai 13 21:30
DESCRIPTION:"Jazz - Gwo Ka"\nFranck Nicolas "JAZZ BELE PHILOSOPHY "\nGréro
 ry Privat piano/ moog\, Boris Reine Adelaide tambour Bèlè\, Jean Emmanue
 l Berthelot batterie/ percu\, Franck Nicolas trompette/ coquillages.\nFran
 ck Nicolas \, trompettiste et compositeur Guadeloupéen \, est le créateu
 r du Jazz Ka (alchimie parfaite alliant le jazz et le tambour traditionnel
  de Guadeloupe). Après 7 albums avec ce concept qui rassemble quelques un
 s des plus grands noms du jazz caribéens \, Franck se lance dans une nouv
 elle aventure musicale sur le mélange du jazz et du tambour Bèlè \,(Per
 cussion ancèstrale de la Martinique). 
CATEGORIES:Concerts en France
LOCATION:le Baiser Salé\, 58\, rue des Lombards\, Paris\, Île de France\,
  75001\, IleDeFrance\, France
GEO:48.8598;2.34791
X-APPLE-STRUCTURED-LOCATION;VALUE=URI;X-ADDRESS=58\, rue des Lombards\, Par
 is\, Île de France\, 75001\, IleDeFrance\, France;X-APPLE-RADIUS=100;X-TI
 TLE=le Baiser Salé:geo:48.8598,2.34791
END:VEVENT
BEGIN:VTIMEZONE
TZID:Europe/Paris
X-LIC-LOCATION:Europe/Paris
BEGIN:DAYLIGHT
DTSTART:20130331T030000
TZOFFSETFROM:+0100
TZOFFSETTO:+0200
TZNAME:CEST
END:DAYLIGHT
END:VTIMEZONE
END:VCALENDAR