BEGIN:VCALENDAR
VERSION:2.0
PRODID:-//wp-events-plugin.com//7.2.3.1//EN
TZID:Europe/Paris
X-WR-TIMEZONE:Europe/Paris
BEGIN:VEVENT
UID:547@bananierbleu.fr
DTSTART;TZID=Europe/Paris:20130622T190000
DTEND;TZID=Europe/Paris:20130622T190000
DTSTAMP:20130601T085338Z
URL:https://bananierbleu.fr/concerts-test/carlton-rara/
SUMMARY:Carlton Rara - le Baiser Salé - 22 Juin 13 19:00
DESCRIPTION:Carlton Rara lead voc/percus\, Serge Balsamo guitare/chœurs\,\
 nPatrick Ruffino basse\, Claude Saturné percus/chœurs\,\nMichel Randria 
 guitare.\nCarlton Rara est franco-haïtien. Percussionniste et chanteur à
  la voix singulière et attachante\, il compose des chansons et réarrange
  des thèmes de la tradition haïtienne. Son parcours\, riche en voyages e
 t collaborations diverses\, lui permet de se forger une identité musicale
  particulière\, à mi-chemin entre un blues électrique très moderne et 
 ses différentes inspirations rythmiques\, issues du Vaudou haïtien\, du 
 Yanvalou\, du Nago\, du Petro ou du Rara. On retrouve également quelques 
 touches de reggae dans certains titres de son nouvel album « Home »\, qu
 i renforce son esprit caribéen. 
CATEGORIES:Concerts en France
LOCATION:le Baiser Salé\, 58\, rue des Lombards\, Paris\, Île de France\,
  75001\, IleDeFrance\, France
GEO:48.8598;2.34791
X-APPLE-STRUCTURED-LOCATION;VALUE=URI;X-ADDRESS=58\, rue des Lombards\, Par
 is\, Île de France\, 75001\, IleDeFrance\, France;X-APPLE-RADIUS=100;X-TI
 TLE=le Baiser Salé:geo:48.8598,2.34791
END:VEVENT
BEGIN:VTIMEZONE
TZID:Europe/Paris
X-LIC-LOCATION:Europe/Paris
BEGIN:DAYLIGHT
DTSTART:20130331T030000
TZOFFSETFROM:+0100
TZOFFSETTO:+0200
TZNAME:CEST
END:DAYLIGHT
END:VTIMEZONE
END:VCALENDAR