BEGIN:VCALENDAR
VERSION:2.0
PRODID:-//wp-events-plugin.com//7.2.3.1//EN
TZID:Europe/Paris
X-WR-TIMEZONE:Europe/Paris
BEGIN:VEVENT
UID:535@bananierbleu.fr
DTSTART;TZID=Europe/Paris:20130821T210000
DTEND;TZID=Europe/Paris:20130821T210000
DTSTAMP:20130516T130041Z
URL:https://bananierbleu.fr/concerts-test/carte-blanche-a-alain-jean-marie
 -2/
SUMMARY:Carte blanche à Alain Jean-Marie -  - 21 Août 13 21:00
DESCRIPTION:Dans le cadre du festival Pianissimo vol VIII\n\nConcert à 21h
  – Entrée 25/22 euros\nL'accompagnateur le plus recherché et appréci
 é à Paris\, il a croisé le fer avec les plus grands : Benny Golson\, St
 eve Grossman\, Chet Baker\, Johnny Griffin\, Barney Wilen\, Dee Dee Bridge
 water... Malgré sa légendaire discrétion\, il est le gardien de cette t
 radition be bop\, réputé pour ses silences\, l'art de suggérer et sa qu
 ête permanente de la note bleue. Une pointure. 
CATEGORIES:Concerts en France
LOCATION:\, \, 
X-APPLE-STRUCTURED-LOCATION;VALUE=URI;X-ADDRESS=\, ;X-APPLE-RADIUS=100;X-TI
 TLE=:geo:0,0
END:VEVENT
BEGIN:VTIMEZONE
TZID:Europe/Paris
X-LIC-LOCATION:Europe/Paris
BEGIN:DAYLIGHT
DTSTART:20130331T030000
TZOFFSETFROM:+0100
TZOFFSETTO:+0200
TZNAME:CEST
END:DAYLIGHT
END:VTIMEZONE
END:VCALENDAR