BEGIN:VCALENDAR
VERSION:2.0
PRODID:-//wp-events-plugin.com//7.2.3.1//EN
TZID:Europe/Paris
X-WR-TIMEZONE:Europe/Paris
BEGIN:VEVENT
UID:654@bananierbleu.fr
DTSTART;TZID=Europe/Paris:20131112T193000
DTEND;TZID=Europe/Paris:20131112T193000
DTSTAMP:20131024T194941Z
URL:https://bananierbleu.fr/concerts-test/celia-wa-project-2/
SUMMARY:Celia Wa project - le Baiser Salé - 12 Nov 13 19:30
DESCRIPTION:"Le Jazz De Demain" - Résidence - Gwo Ka\, Hip Hop\, Jazz\nCEL
 IA WA PROJECT\nEric Delblond basse\, Yassin Kramdi clavier\, Swaany choeur
 s\, Jean Emmanuel Fatna batterie/tambour\,\nCélia Wa lead vocal/flute.\nP
 our son 4ème moi de residence dans nos murs\, Célia électrise la salle 
 de l’étage! La jeune auteur\, compositeur et interprète nous a déjà 
 ravi avec son nouveau projet Influences électro /acoustique et compositio
 ns originales teintées d'influences\, hip hop\, jazz\, reggae et gwo ka. 
 Venez découvrir sa creation métissée! 
CATEGORIES:Concerts en France
LOCATION:le Baiser Salé\, 58\, rue des Lombards\, Paris\, Île de France\,
  75001\, IleDeFrance\, France
GEO:48.8598;2.34791
X-APPLE-STRUCTURED-LOCATION;VALUE=URI;X-ADDRESS=58\, rue des Lombards\, Par
 is\, Île de France\, 75001\, IleDeFrance\, France;X-APPLE-RADIUS=100;X-TI
 TLE=le Baiser Salé:geo:48.8598,2.34791
END:VEVENT
BEGIN:VTIMEZONE
TZID:Europe/Paris
X-LIC-LOCATION:Europe/Paris
BEGIN:STANDARD
DTSTART:20131027T020000
TZOFFSETFROM:+0200
TZOFFSETTO:+0100
TZNAME:CET
END:STANDARD
END:VTIMEZONE
END:VCALENDAR