BEGIN:VCALENDAR
VERSION:2.0
PRODID:-//wp-events-plugin.com//7.2.3.1//EN
TZID:Europe/Paris
X-WR-TIMEZONE:Europe/Paris
BEGIN:VEVENT
UID:625@bananierbleu.fr
DTSTART;TZID=Europe/Paris:20131008T193000
DTEND;TZID=Europe/Paris:20131008T193000
DTSTAMP:20130924T153302Z
URL:https://bananierbleu.fr/concerts-test/celia-wa-project/
SUMMARY:Célia Wa Project - le Baiser Salé - 8 Oct 13 19:30
DESCRIPTION:Eric Delblond basse\, Yassin Kramdi clavier\, Swaany choeurs\, 
 Jean Emmanuel Fatna batterie/tambour\,\nCélia Wa lead vocal/flute.\nLe co
 ncept du Baiser Salé\, "Le JAZZ DE DEMAIN"\, qui a donné son nom au fest
 ival de Juillet\, permet à de jeunes artistes de développer leurs projet
 s au contact de nombreux musiciens\, professionnels et des publics. Célia
  expérimente ainsi la fusion de ses origines caribéennes avec l'éléctr
 o\, et pas que!! 
CATEGORIES:Concerts en France
LOCATION:le Baiser Salé\, 58\, rue des Lombards\, Paris\, Île de France\,
  75001\, IleDeFrance\, France
GEO:48.8598;2.34791
X-APPLE-STRUCTURED-LOCATION;VALUE=URI;X-ADDRESS=58\, rue des Lombards\, Par
 is\, Île de France\, 75001\, IleDeFrance\, France;X-APPLE-RADIUS=100;X-TI
 TLE=le Baiser Salé:geo:48.8598,2.34791
END:VEVENT
BEGIN:VTIMEZONE
TZID:Europe/Paris
X-LIC-LOCATION:Europe/Paris
BEGIN:DAYLIGHT
DTSTART:20130331T030000
TZOFFSETFROM:+0100
TZOFFSETTO:+0200
TZNAME:CEST
END:DAYLIGHT
END:VTIMEZONE
END:VCALENDAR