BEGIN:VCALENDAR
VERSION:2.0
PRODID:-//wp-events-plugin.com//7.2.3.1//EN
TZID:Europe/Paris
X-WR-TIMEZONE:Europe/Paris
BEGIN:VEVENT
UID:601@bananierbleu.fr
DTSTART;TZID=Europe/Paris:20130910T193000
DTEND;TZID=Europe/Paris:20130910T193000
DTSTAMP:20130907T093118Z
URL:https://bananierbleu.fr/concerts-test/celia-wa-was-project/
SUMMARY:Celia Wa - Wa's project - le Baiser Salé - 10 Sep 13 19:30
DESCRIPTION:Eric Delblond basse\, Yassin Kramdi clavier\,\nSwaany choeurs J
 ean Emmanuel Fatna batterie/tambour\,\nCélia Wa lead vocal/flute. \nEn r
 ésidence jusqu'en 2014 au Baiser SAlé\, Célia Wa\, a déjà été accue
 illi dans nos murs et va davantage se dévoiler avec son projet musical\, 
 le "Wa's project". Ce projet est un condensé de ses diverses influences\,
  une rencontre entre l'électro et l'acoustique autour de compositions ori
 ginales teintées d'influences\, hip hop\, jazz\, reggae et gwo ka. Une mu
 sique métissé et énergique\, à l'ame caribéenne et universelle qui vo
 us reserve de belles surprises!"
CATEGORIES:Concerts en France
LOCATION:le Baiser Salé\, 58\, rue des Lombards\, Paris\, Île de France\,
  75001\, IleDeFrance\, France
GEO:48.8598;2.34791
X-APPLE-STRUCTURED-LOCATION;VALUE=URI;X-ADDRESS=58\, rue des Lombards\, Par
 is\, Île de France\, 75001\, IleDeFrance\, France;X-APPLE-RADIUS=100;X-TI
 TLE=le Baiser Salé:geo:48.8598,2.34791
END:VEVENT
BEGIN:VTIMEZONE
TZID:Europe/Paris
X-LIC-LOCATION:Europe/Paris
BEGIN:DAYLIGHT
DTSTART:20130331T030000
TZOFFSETFROM:+0100
TZOFFSETTO:+0200
TZNAME:CEST
END:DAYLIGHT
END:VTIMEZONE
END:VCALENDAR