BEGIN:VCALENDAR
VERSION:2.0
PRODID:-//wp-events-plugin.com//7.2.3.1//EN
TZID:Europe/Paris
X-WR-TIMEZONE:Europe/Paris
BEGIN:VEVENT
UID:524@bananierbleu.fr
DTSTART;TZID=Europe/Paris:20130607T200000
DTEND;TZID=Europe/Paris:20130607T200000
DTSTAMP:20130511T104435Z
URL:https://bananierbleu.fr/concerts-test/cest-pas-du-jazz-chris-combette/
SUMMARY:[C'est pas du jazz] Chris Combette - le Chinois - 7 Juin 13 20:00
DESCRIPTION:On ne présente plus Chris Combette\, dont la folk caribéenne 
 léchée rassemble tous les suffrages\, et à retrouver par exemple sur so
 n dernier album\, Les Enfants de Gorée. Il sera en concert solo le 7 juin
  à partir de 20h00 au Chinois.
CATEGORIES:Concerts en France
LOCATION:le Chinois\, place du Marché\, Montreuil\, 93100\, France
GEO:48.857685;2.433983
X-APPLE-STRUCTURED-LOCATION;VALUE=URI;X-ADDRESS=place du Marché\, Montreui
 l\, 93100\, France;X-APPLE-RADIUS=100;X-TITLE=le Chinois:geo:48.857685,2.4
 33983
END:VEVENT
BEGIN:VTIMEZONE
TZID:Europe/Paris
X-LIC-LOCATION:Europe/Paris
BEGIN:DAYLIGHT
DTSTART:20130331T030000
TZOFFSETFROM:+0100
TZOFFSETTO:+0200
TZNAME:CEST
END:DAYLIGHT
END:VTIMEZONE
END:VCALENDAR