BEGIN:VCALENDAR
VERSION:2.0
PRODID:-//wp-events-plugin.com//7.2.3.1//EN
TZID:Europe/Paris
X-WR-TIMEZONE:Europe/Paris
BEGIN:VEVENT
UID:522@bananierbleu.fr
DTSTART;TZID=Europe/Paris:20130606T200000
DTEND;TZID=Europe/Paris:20130606T200000
DTSTAMP:20130511T103801Z
URL:https://bananierbleu.fr/concerts-test/cest-pas-du-jazz-dominique-lebla
 nc/
SUMMARY:[C'est pas du jazz] Dominique Leblanc - le Chinois - 6 Juin 13 20:0
 0
DESCRIPTION:Dans le cadre du festival "C'est pas du jazz". Dominique Leblan
 c (pno)\, avec Yoann Danier (dms) et Nicolas Noyon (b)
CATEGORIES:Concerts en France
LOCATION:le Chinois\, place du Marché\, Montreuil\, 93100\, France
GEO:48.857685;2.433983
X-APPLE-STRUCTURED-LOCATION;VALUE=URI;X-ADDRESS=place du Marché\, Montreui
 l\, 93100\, France;X-APPLE-RADIUS=100;X-TITLE=le Chinois:geo:48.857685,2.4
 33983
END:VEVENT
BEGIN:VTIMEZONE
TZID:Europe/Paris
X-LIC-LOCATION:Europe/Paris
BEGIN:DAYLIGHT
DTSTART:20130331T030000
TZOFFSETFROM:+0100
TZOFFSETTO:+0200
TZNAME:CEST
END:DAYLIGHT
END:VTIMEZONE
END:VCALENDAR