BEGIN:VCALENDAR
VERSION:2.0
PRODID:-//wp-events-plugin.com//7.2.3.1//EN
TZID:Europe/Paris
X-WR-TIMEZONE:Europe/Paris
BEGIN:VEVENT
UID:525@bananierbleu.fr
DTSTART;TZID=Europe/Paris:20130607T213000
DTEND;TZID=Europe/Paris:20130607T213000
DTSTAMP:20130511T104657Z
URL:https://bananierbleu.fr/concerts-test/cest-pas-du-jazz-eric-ildefonse/
SUMMARY:[C'est pas du jazz] Eric Ildefonse - le Chinois - 7 Juin 13 21:30
DESCRIPTION:Dans le cadre du Festival "C'est pas du jazz". La soirée se po
 ursuivra avec le pianiste Eric Ildefonse. Désormais installé en Martiniq
 ue où il fait tourner sa musique\, son expérience s’est aussi construi
 te en France et en Belgique. Il sera en concert au Chinois\, avec l’équ
 ipe de son dernier album (Félipe Cabrera\, b\, Luther François\, sax\, C
 hander Sardjoe\, dms & Philippe Gouyer-Montout\, bèlè).
CATEGORIES:Concerts en France
LOCATION:le Chinois\, place du Marché\, Montreuil\, 93100\, France
GEO:48.8576842;2.433983000000012
X-APPLE-STRUCTURED-LOCATION;VALUE=URI;X-ADDRESS=place du Marché\, Montreui
 l\, 93100\, France;X-APPLE-RADIUS=100;X-TITLE=le Chinois:geo:48.8576842,2.
 433983000000012
END:VEVENT
BEGIN:VTIMEZONE
TZID:Europe/Paris
X-LIC-LOCATION:Europe/Paris
BEGIN:DAYLIGHT
DTSTART:20130331T030000
TZOFFSETFROM:+0100
TZOFFSETTO:+0200
TZNAME:CEST
END:DAYLIGHT
END:VTIMEZONE
END:VCALENDAR