BEGIN:VCALENDAR
VERSION:2.0
PRODID:-//wp-events-plugin.com//7.2.3.1//EN
TZID:Europe/Paris
X-WR-TIMEZONE:Europe/Paris
BEGIN:VEVENT
UID:528@bananierbleu.fr
DTSTART;TZID=Europe/Paris:20130608T170000
DTEND;TZID=Europe/Paris:20130608T170000
DTSTAMP:20130511T105948Z
URL:https://bananierbleu.fr/concerts-test/cest-pas-du-jazz-fanfarai/
SUMMARY:[C'est pas du jazz] Fanfaraï - Marché de la Croix de Chavaux - 8 
 Juin 13 17:00
DESCRIPTION:Enfin\, le festival s’achèvera avec Fanfaraï (fanfare\, ra
 ï… c’est bon ? vous l’avez ?) qui métisse les musiques traditionne
 lles du Maghreb (raï\, chaabi\, gnawi\, kabyle…)\, en les confrontant 
 à d’autres influences culturelles latines\, jazz\, afro-cubaines ou tsi
 gane. On ne peut plus énergisant !
CATEGORIES:Concerts en France
LOCATION:Marché de la Croix de Chavaux\, place du Marché\, Montreuil\, 93
 100\, France
GEO:48.857685;2.433983
X-APPLE-STRUCTURED-LOCATION;VALUE=URI;X-ADDRESS=place du Marché\, Montreui
 l\, 93100\, France;X-APPLE-RADIUS=100;X-TITLE=Marché de la Croix de Chava
 ux:geo:48.857685,2.433983
END:VEVENT
BEGIN:VTIMEZONE
TZID:Europe/Paris
X-LIC-LOCATION:Europe/Paris
BEGIN:DAYLIGHT
DTSTART:20130331T030000
TZOFFSETFROM:+0100
TZOFFSETTO:+0200
TZNAME:CEST
END:DAYLIGHT
END:VTIMEZONE
END:VCALENDAR