BEGIN:VCALENDAR
VERSION:2.0
PRODID:-//wp-events-plugin.com//7.2.3.1//EN
TZID:Europe/Paris
X-WR-TIMEZONE:Europe/Paris
BEGIN:VEVENT
UID:527@bananierbleu.fr
DTSTART;TZID=Europe/Paris:20130608T160000
DTEND;TZID=Europe/Paris:20130608T160000
DTSTAMP:20130511T105744Z
URL:https://bananierbleu.fr/concerts-test/cest-pas-du-jazz-jowee-omicil/
SUMMARY:[C'est pas du jazz] Jowee Omicil - Marché de la Croix de Chavaux -
  8 Juin 13 16:00
DESCRIPTION:Originaire d’Haïti\, mais né à Montréal\, il est passé p
 ar la Berklee School of Music et a déjà eu l’occasion de partager la s
 cène avec Brandford Marsalis\, Richard Bona\, Marcus Miller parmi de nomb
 reux autres. Il vient avec une équipe de choc\, formée avec Jean-Phi Dar
 y (keys)\, Félix Sabbal-Lecco (dms)\, Hervé Samb (g) et Alune Wade (b). 
 A ne manquer sous aucun prétexte.
CATEGORIES:Concerts en France
LOCATION:Marché de la Croix de Chavaux\, place du Marché\, Montreuil\, 93
 100\, France
GEO:48.857685;2.433983
X-APPLE-STRUCTURED-LOCATION;VALUE=URI;X-ADDRESS=place du Marché\, Montreui
 l\, 93100\, France;X-APPLE-RADIUS=100;X-TITLE=Marché de la Croix de Chava
 ux:geo:48.857685,2.433983
END:VEVENT
BEGIN:VTIMEZONE
TZID:Europe/Paris
X-LIC-LOCATION:Europe/Paris
BEGIN:DAYLIGHT
DTSTART:20130331T030000
TZOFFSETFROM:+0100
TZOFFSETTO:+0200
TZNAME:CEST
END:DAYLIGHT
END:VTIMEZONE
END:VCALENDAR