BEGIN:VCALENDAR
VERSION:2.0
PRODID:-//wp-events-plugin.com//7.2.3.1//EN
TZID:Europe/Paris
X-WR-TIMEZONE:Europe/Paris
BEGIN:VEVENT
UID:526@bananierbleu.fr
DTSTART;TZID=Europe/Paris:20130608T150000
DTEND;TZID=Europe/Paris:20130608T150000
DTSTAMP:20130511T105056Z
URL:https://bananierbleu.fr/concerts-test/cest-pas-du-jazz-kannigwe/
SUMMARY:[C'est pas du jazz] Kannigwé - Marché de la Croix de Chavaux - 8 
 Juin 13 15:00
DESCRIPTION:On retrouvera Philippe Gouyer-Montout le 8 juin à partir de 15
 h00\, en concert gratuit sur la place du marché de Croix de Chavaux. Avec
  son groupe Kannigwé\, il présentera son répertoire\, forgé autour du 
 bèlè\, mais nourri d’influences venant du jazz\, du reggae\, du rock
 …
CATEGORIES:Concerts en France
LOCATION:Marché de la Croix de Chavaux\, place du Marché\, Montreuil\, 93
 100\, France
GEO:48.857685;2.433983
X-APPLE-STRUCTURED-LOCATION;VALUE=URI;X-ADDRESS=place du Marché\, Montreui
 l\, 93100\, France;X-APPLE-RADIUS=100;X-TITLE=Marché de la Croix de Chava
 ux:geo:48.857685,2.433983
END:VEVENT
BEGIN:VTIMEZONE
TZID:Europe/Paris
X-LIC-LOCATION:Europe/Paris
BEGIN:DAYLIGHT
DTSTART:20130331T030000
TZOFFSETFROM:+0100
TZOFFSETTO:+0200
TZNAME:CEST
END:DAYLIGHT
END:VTIMEZONE
END:VCALENDAR