BEGIN:VCALENDAR
VERSION:2.0
PRODID:-//wp-events-plugin.com//7.2.3.1//EN
TZID:Europe/Paris
X-WR-TIMEZONE:Europe/Paris
BEGIN:VEVENT
UID:523@bananierbleu.fr
DTSTART;TZID=Europe/Paris:20130606T213000
DTEND;TZID=Europe/Paris:20130606T213000
DTSTAMP:20130511T104007Z
URL:https://bananierbleu.fr/concerts-test/cest-pas-du-jazz-yann-clery-et-w
 hy-cie/
SUMMARY:[C'est pas du jazz] Yann Cléry et WHY & Cie - le Chinois - 6 Juin 
 13 21:30
DESCRIPTION:La soirée se poursuivra avec Yann Cléry\, flûtiste guyanais\
 , et son groupe WHY Cie (Romain Clerc-Renaud\, keys\, Thibault Perriard\, 
 dms\, Laurent Salzard\, b et Thomas Grommaire\, g)\, qui navigue entre jaz
 z\, électro ou reggae dans un ensemble particulièrement percussif.
CATEGORIES:Concerts en France
LOCATION:le Chinois\, place du Marché\, Montreuil\, 93100\, France
GEO:48.857685;2.433983
X-APPLE-STRUCTURED-LOCATION;VALUE=URI;X-ADDRESS=place du Marché\, Montreui
 l\, 93100\, France;X-APPLE-RADIUS=100;X-TITLE=le Chinois:geo:48.857685,2.4
 33983
END:VEVENT
BEGIN:VTIMEZONE
TZID:Europe/Paris
X-LIC-LOCATION:Europe/Paris
BEGIN:DAYLIGHT
DTSTART:20130331T030000
TZOFFSETFROM:+0100
TZOFFSETTO:+0200
TZNAME:CEST
END:DAYLIGHT
END:VTIMEZONE
END:VCALENDAR