BEGIN:VCALENDAR
VERSION:2.0
PRODID:-//wp-events-plugin.com//7.2.3.1//EN
TZID:Europe/Paris
X-WR-TIMEZONE:Europe/Paris
BEGIN:VEVENT
UID:4056@bananierbleu.fr
DTSTART;TZID=Europe/Paris:20251220T193000
DTEND;TZID=Europe/Paris:20251220T193000
DTSTAMP:20251126T135552Z
URL:https://bananierbleu.fr/concerts-test/charlotte-wassy-3/
SUMMARY:Charlotte Wassy - 38Riv' - Jazz Club & Bar - 20 Déc 25 19:30
DESCRIPTION:\n 	Personnel : Alexis Valet (vibraphone)\, Charlotte Wassy (vo
 ix\, compositions)\, Curtis Efoua Ela (batterie)\, Elvin Bironien (basse)\
 , Gustave Reichert (guitare)\n 	Présentation : Le projet "Libra" de Charl
 otte Wassy propose un jazz urbain moderne\, mêlant improvisation jazz\, g
 rooves soul et R&amp\;B. Née dans une famille d’artistes\, elle s’ins
 pire de son héritage musical pluriel pour créer une expression artistiqu
 e riche et engagée. Son dernier album\, "Cadence"\, est sorti en 2024.\n
ATTACH;FMTTYPE=image/jpeg:https://bananierbleu.fr/wp-content/uploads/2025/
 11/Charlotte_Wassy.webp
CATEGORIES:Concerts en France
LOCATION:38Riv' - Jazz Club & Bar\, 38\, rue de Rivoli\, Paris\, Île de Fr
 ance\, 75004\, IleDeFrance\, France
GEO:48.856461;2.356461
X-APPLE-STRUCTURED-LOCATION;VALUE=URI;X-ADDRESS=38\, rue de Rivoli\, Paris\
 , Île de France\, 75004\, IleDeFrance\, France;X-APPLE-RADIUS=100;X-TITLE
 =38Riv' - Jazz Club & Bar:geo:48.856461,2.356461
END:VEVENT
BEGIN:VTIMEZONE
TZID:Europe/Paris
X-LIC-LOCATION:Europe/Paris
BEGIN:STANDARD
DTSTART:20251026T020000
TZOFFSETFROM:+0200
TZOFFSETTO:+0100
TZNAME:CET
END:STANDARD
END:VTIMEZONE
END:VCALENDAR