BEGIN:VCALENDAR
VERSION:2.0
PRODID:-//wp-events-plugin.com//7.2.3.1//EN
TZID:Europe/Paris
X-WR-TIMEZONE:Europe/Paris
BEGIN:VEVENT
UID:663@bananierbleu.fr
DTSTART;TZID=Europe/Paris:20131127T213000
DTEND;TZID=Europe/Paris:20131127T213000
DTSTAMP:20131028T091232Z
URL:https://bananierbleu.fr/concerts-test/charlotte-wassy-5tet/
SUMMARY:Charlotte Wassy 5tet - Petit Journal Montparnasse - 27 Nov 13 21:30
DESCRIPTION:Charlotte WASSY 5TET au Petit Journal Montparnasse le 27 Novemb
 re 2013 à 21h30.\nAprès la sortie de son premier album en Mai dernier\, 
 et une série de concerts\, c’est au «Petit Journal Montparnasse» que 
 Charlotte Wassy propose le 27 Novembre prochain son "Jazz Métissé Instin
 ctif".\nBleu pour les notes Jazzy\, Ocre pour les terres d’où émergent
  ses rythmiques\, c’est encore bien d’autres couleurs qui viennent se 
 mêler à l’esprit de sa musique.\nPortées par une équipe de musiciens
  émérites les compositions de la jeune chanteuse prennent tout leur sens
 \, et sauront éveiller les vôtres...\nLine up: Charlotte Wassy chant/com
 po\; Leonardo Montana piano\; Damian Nueva cbasse\; Arnaud Dolmen batterie
 \; Irving Acao sax.\n\n
CATEGORIES:Concerts en France
LOCATION:Petit Journal Montparnasse\, 13 rue du Commandant Mouchotte\, Pari
 s\, 75014\, Ile de France\, France
GEO:48.8391;2.32106
X-APPLE-STRUCTURED-LOCATION;VALUE=URI;X-ADDRESS=13 rue du Commandant Moucho
 tte\, Paris\, 75014\, Ile de France\, France;X-APPLE-RADIUS=100;X-TITLE=Pe
 tit Journal Montparnasse:geo:48.8391,2.32106
END:VEVENT
BEGIN:VTIMEZONE
TZID:Europe/Paris
X-LIC-LOCATION:Europe/Paris
BEGIN:STANDARD
DTSTART:20131027T020000
TZOFFSETFROM:+0200
TZOFFSETTO:+0100
TZNAME:CET
END:STANDARD
END:VTIMEZONE
END:VCALENDAR