BEGIN:VCALENDAR
VERSION:2.0
PRODID:-//wp-events-plugin.com//7.2.3.1//EN
TZID:Europe/Paris
X-WR-TIMEZONE:Europe/Paris
BEGIN:VEVENT
UID:3258@bananierbleu.fr
DTSTART;TZID=Europe/Paris:20220215T210000
DTEND;TZID=Europe/Paris:20220215T210000
DTSTAMP:20220105T144056Z
URL:https://bananierbleu.fr/concerts-test/cheick-tidiane-seck-paco-sery-al
 une-wade-trio-368-degres/
SUMMARY:Cheick Tidiane Seck / Paco Séry / Alune Wade “Trio 368 Degrés
 ” - Théâtre Claude Debussy - 15 Fév 22 21:00
DESCRIPTION:[Festival Sons d'Hiver] Le Jazz confronté à ses héritages\, 
 versant Afrique de l’Ouest. Décolonisation des pays\, puis créolisatio
 n des esprits. Le continent africain bruisse des racines de la musique pop
 ulaire africaine-américaine\, ancienne et actuelle. Ce sont ces bruisseme
 nts qui sont au cœur du 368 Degrés\, où le jazz danse avec ses cousins\
 , le groove et les sonorités traditionnelles. Trio all-stars fascinant su
 r le papier comme sur scène\, par ses racines\, là aussi\, justement. Ra
 cines maliennes\, sénégalaises et ivoiriennes. Mélange sensible de troi
 s musiciens emblématiques d’une scène contemporaine d’Afrique de l
 ’Ouest en perpétuelle ébullition\, trois musiciens de renommée aussi 
 large que leur parcours est riche\, tracés par les rencontres avec\, nota
 mment Joe Zawinul\, fondateur de Weather Report.\n\n 	Cheick Tidiane Seck 
 piano\, claviers\, voix\n 	Paco SÉry batterie\, percussions\n 	Alune Wade
  basse électrique\, voix\n
ATTACH;FMTTYPE=image/jpeg:https://bananierbleu.fr/wp-content/uploads/2022/
 01/368Degres.jpg
CATEGORIES:Concerts en France
LOCATION:Théâtre Claude Debussy\, 116\, avenue du Général de Gaulle\, M
 aisons-Alfort\, Île de France\, 94700\, IleDeFrance\, France
X-APPLE-STRUCTURED-LOCATION;VALUE=URI;X-ADDRESS=116\, avenue du Général d
 e Gaulle\, Maisons-Alfort\, Île de France\, 94700\, IleDeFrance\, France;
 X-APPLE-RADIUS=100;X-TITLE=Théâtre Claude Debussy:geo:0,0
END:VEVENT
BEGIN:VTIMEZONE
TZID:Europe/Paris
X-LIC-LOCATION:Europe/Paris
BEGIN:STANDARD
DTSTART:20211031T020000
TZOFFSETFROM:+0200
TZOFFSETTO:+0100
TZNAME:CET
END:STANDARD
END:VTIMEZONE
END:VCALENDAR