BEGIN:VCALENDAR
VERSION:2.0
PRODID:-//wp-events-plugin.com//7.2.3.1//EN
TZID:Europe/Paris
X-WR-TIMEZONE:Europe/Paris
BEGIN:VEVENT
UID:281@bananierbleu.fr
DTSTART;TZID=Europe/Paris:20120811T200000
DTEND;TZID=Europe/Paris:20120811T230000
DTSTAMP:20120804T093052Z
URL:https://bananierbleu.fr/concerts-test/chris-combette-2/
SUMMARY:Chris Combette - Hôtel Fort Royal - 11 Août 12 20:00
DESCRIPTION:
CATEGORIES:Concerts en Guadeloupe
LOCATION:Hôtel Fort Royal\, Petit Bas Vent\, Deshaies\, Guadeloupe\, 97126
 \, Guadeloupe\, Guadeloupe
GEO:16.3443966;-61.7737305
X-APPLE-STRUCTURED-LOCATION;VALUE=URI;X-ADDRESS=Petit Bas Vent\, Deshaies\,
  Guadeloupe\, 97126\, Guadeloupe\, Guadeloupe;X-APPLE-RADIUS=100;X-TITLE=H
 ôtel Fort Royal:geo:16.3443966,-61.7737305
END:VEVENT
BEGIN:VTIMEZONE
TZID:Europe/Paris
X-LIC-LOCATION:Europe/Paris
BEGIN:DAYLIGHT
DTSTART:20120325T030000
TZOFFSETFROM:+0100
TZOFFSETTO:+0200
TZNAME:CEST
END:DAYLIGHT
END:VTIMEZONE
END:VCALENDAR