BEGIN:VCALENDAR
VERSION:2.0
PRODID:-//wp-events-plugin.com//7.2.3.1//EN
TZID:Europe/Paris
X-WR-TIMEZONE:Europe/Paris
BEGIN:VEVENT
UID:563@bananierbleu.fr
DTSTART;TZID=Europe/Paris:20130713T213000
DTEND;TZID=Europe/Paris:20130713T213000
DTSTAMP:20130622T153213Z
URL:https://bananierbleu.fr/concerts-test/chris-combette-4/
SUMMARY:Chris Combette - le Baiser Salé - 13 Juil 13 21:30
DESCRIPTION:Chris Combette vocal/guitare\, Stéphane Castry basse\,\nThierr
 y Vaton piano\, Albert Vigné percus\nD’origine clamartoise\, Chris Comb
 ette est reconnu pour ses compositions pétries de toutes les sonorités q
 ui forgent le répertoire créole : biguine\, mazurka\, zouk\, salsa\, cal
 ypso\, reggae ou bossa nova….En 2011\, il présente un quatrième album\
 , “Les Enfants de Gorée”\, toujours à la croisée du folk\, du jazz\
 , entre l’Afrique et la Guyane\, et dont les textes s’articulent autou
 r d’une réflexion sur les dysfonctionnements de notre société. L’al
 bum est présenté aux Antilles et en Guyane. En 2012\, Chris Combette ent
 reprend une nouvelle tournée autour de l’album\, qui débute à Paris p
 uis aux Antilles.
CATEGORIES:Concerts en France
LOCATION:le Baiser Salé\, 58\, rue des Lombards\, Paris\, Île de France\,
  75001\, IleDeFrance\, France
GEO:48.8598;2.34791
X-APPLE-STRUCTURED-LOCATION;VALUE=URI;X-ADDRESS=58\, rue des Lombards\, Par
 is\, Île de France\, 75001\, IleDeFrance\, France;X-APPLE-RADIUS=100;X-TI
 TLE=le Baiser Salé:geo:48.8598,2.34791
END:VEVENT
BEGIN:VTIMEZONE
TZID:Europe/Paris
X-LIC-LOCATION:Europe/Paris
BEGIN:DAYLIGHT
DTSTART:20130331T030000
TZOFFSETFROM:+0100
TZOFFSETTO:+0200
TZNAME:CEST
END:DAYLIGHT
END:VTIMEZONE
END:VCALENDAR