BEGIN:VCALENDAR
VERSION:2.0
PRODID:-//wp-events-plugin.com//7.2.3.1//EN
TZID:Europe/Paris
X-WR-TIMEZONE:Europe/Paris
BEGIN:VEVENT
UID:603@bananierbleu.fr
DTSTART;TZID=Europe/Paris:20130911T213000
DTEND;TZID=Europe/Paris:20130911T213000
DTSTAMP:20130907T093439Z
URL:https://bananierbleu.fr/concerts-test/chris-combette-5/
SUMMARY:Chris Combette - le Baiser Salé - 11 Sep 13 21:30
DESCRIPTION:"Acoustique-Tropicale"\nCHRIS COMBETTE PROJECT\nChris Combette 
 voix/guitare\, Stéphane Castry basse\,\nThierry Vaton piano\, Thomas Bell
 on batterie\nD’origine clamartoise\, Chris Combette est reconnu pour ses
  compositions pétries de toutes les sonorités qui forgent le répertoire
  créole : biguine\, mazurka\, zouk\, salsa\, calypso\, reggae ou bossa no
 va….En 2011\, il présente un quatrième album\, “Les Enfants de Goré
 e”\, toujours à la croisée du folk\, du jazz\, entre l’Afrique et la
  Guyane\, et dont les textes s’articulent autour d’une réflexion sur 
 les dysfonctionnements de notre société. L’album est présenté aux An
 tilles et en Guyane. En 2012\, Chris Combette entreprend une nouvelle tour
 née autour de l’album\, qui débute à Paris puis aux Antilles. 
CATEGORIES:Concerts en France
LOCATION:le Baiser Salé\, 58\, rue des Lombards\, Paris\, Île de France\,
  75001\, IleDeFrance\, France
GEO:48.8598;2.34791
X-APPLE-STRUCTURED-LOCATION;VALUE=URI;X-ADDRESS=58\, rue des Lombards\, Par
 is\, Île de France\, 75001\, IleDeFrance\, France;X-APPLE-RADIUS=100;X-TI
 TLE=le Baiser Salé:geo:48.8598,2.34791
END:VEVENT
BEGIN:VTIMEZONE
TZID:Europe/Paris
X-LIC-LOCATION:Europe/Paris
BEGIN:DAYLIGHT
DTSTART:20130331T030000
TZOFFSETFROM:+0100
TZOFFSETTO:+0200
TZNAME:CEST
END:DAYLIGHT
END:VTIMEZONE
END:VCALENDAR