BEGIN:VCALENDAR
VERSION:2.0
PRODID:-//wp-events-plugin.com//7.2.3.1//EN
TZID:Europe/Paris
X-WR-TIMEZONE:Europe/Paris
BEGIN:VEVENT
UID:396@bananierbleu.fr
DTSTART;TZID=Europe/Paris:20130205T203000
DTEND;TZID=Europe/Paris:20130205T220000
DTSTAMP:20130121T185000Z
URL:https://bananierbleu.fr/concerts-test/chris-combette-alexandra-hernand
 ez/
SUMMARY:Chris Combette + Alexandra Hernandez - la Dame de Canton - 5 Fév 1
 3 20:30
DESCRIPTION:ALEXANDRA HERNANDEZ\n“Alexandra Hernandez est une auteur comp
 ositeur interprète originaire des îles St Pierre et Miquelon. Après un 
 premier album autoproduit en 2008 et présenté sur plusieurs scènes de l
 a Francophonie (Mars en Chanson\, Francofolies de La Rochelle et de Montr
 éal\, Festi’îles\, Déferlantes Francophones\, etc…)\, l’artiste n
 ous transporte avec “Lula-Rose” dans une Amérique du Nord chargée d
 ’histoires\, de vents\, de neiges\, de larmes et de victoires…”\n\nw
 ww.alexandra-hernandez.com\nhttp://youtu.be/aUOc2WIU4mg\n\nCHRIS COMBETTE\
 n"Sa musique est comme lui\, en perpétuel mouvement : elle naît et se no
 urrit du voyage. Souvent qualifiées de caribéennes\, ses compositions so
 nt pétries de toutes les sonorités qui forgent le répertoire créole : 
 biguine\, mazurka\, zouk\, salsa\, calypso\, reggae ou bossa nova…. L’
 histoire de Chris est métisse par essence : né à Cayenne\, il apprend 
 à marcher au Havre et crée son premier groupe à Fort-de-France.…avant
  que la musique ne s’empare de lui\, il jouait déjà dans la catégorie
  ”World”. Son identité s’est forgée de part et d’autre de l’At
 lantique\, dans la Caraïbe\, en Amérique du sud et en Europe."\n\nwww.ch
 riscombette.fr\nhttps://www.facebook.com/ChrisCombette?ref=hl\nhttps://www
 .facebook.com/chriscombette.compteplein?ref=name\nhttp://www.myspace.com/c
 hriscombette
CATEGORIES:Concerts en France
LOCATION:la Dame de Canton\, Port de la Gare\, Paris\, 75013\, France
X-APPLE-STRUCTURED-LOCATION;VALUE=URI;X-ADDRESS=Port de la Gare\, Paris\, 7
 5013\, France;X-APPLE-RADIUS=100;X-TITLE=la Dame de Canton:geo:0,0
END:VEVENT
BEGIN:VTIMEZONE
TZID:Europe/Paris
X-LIC-LOCATION:Europe/Paris
BEGIN:STANDARD
DTSTART:20121028T020000
TZOFFSETFROM:+0200
TZOFFSETTO:+0100
TZNAME:CET
END:STANDARD
END:VTIMEZONE
END:VCALENDAR