BEGIN:VCALENDAR
VERSION:2.0
PRODID:-//wp-events-plugin.com//7.2.3.1//EN
TZID:Europe/Paris
X-WR-TIMEZONE:Europe/Paris
BEGIN:VEVENT
UID:3102@bananierbleu.fr
DTSTART;TZID=America/Cayenne:20200131T203000
DTEND;TZID=America/Cayenne:20200131T203000
DTSTAMP:20200129T085157Z
URL:https://bananierbleu.fr/concerts-test/chris-combette-georges-tijo-mac/
SUMMARY:Chris Combette & Georges "Tijo" Mac - le Ranch - 31 Jan 20 20:30
DESCRIPTION:Chris Combette &amp\; Georges "Tijo" Mac en concert au Ranch
ATTACH;FMTTYPE=image/jpeg:https://bananierbleu.fr/wp-content/uploads/2020/
 01/CombetteMac.jpg
CATEGORIES:Concerts en Guyane
LOCATION:le Ranch\, Crique Fouillée\, Matoury\, Guyane\, 97351\, Guyane\, 
 France
X-APPLE-STRUCTURED-LOCATION;VALUE=URI;X-ADDRESS=Crique Fouillée\, Matoury\
 , Guyane\, 97351\, Guyane\, France;X-APPLE-RADIUS=100;X-TITLE=le Ranch:geo
 :0,0
END:VEVENT
BEGIN:VTIMEZONE
TZID:America/Cayenne
X-LIC-LOCATION:America/Cayenne
BEGIN:STANDARD
DTSTART:20190131T203000
TZOFFSETFROM:-0300
TZOFFSETTO:-0300
TZNAME:-03
END:STANDARD
END:VTIMEZONE
END:VCALENDAR