BEGIN:VCALENDAR
VERSION:2.0
PRODID:-//wp-events-plugin.com//7.2.3.1//EN
TZID:Europe/Paris
X-WR-TIMEZONE:Europe/Paris
BEGIN:VEVENT
UID:3101@bananierbleu.fr
DTSTART;TZID=America/St_Barthelemy:20200201T200000
DTEND;TZID=America/St_Barthelemy:20200201T200000
DTSTAMP:20200128T161559Z
URL:https://bananierbleu.fr/concerts-test/christian-amour-ludgy-cherod/
SUMMARY:Christian Amour & Ludgy Cherod - 978 Sanctorum - 1 Fév 20 20:00
DESCRIPTION:A duo that no-one wants to miss: Christian Amour (pno) and Ludg
 y Cherod (g) for some live Creole Jazz
ATTACH;FMTTYPE=image/jpeg:https://bananierbleu.fr/wp-content/uploads/2020/
 01/ChAmourLCherod.jpg
CATEGORIES:Concerts en Guadeloupe
LOCATION:978 Sanctorum\, 6 rue des Hodges\, Rambaud\, Marigot\, Saint Marti
 n\, 97150\, SaintMartin\, Guadeloupe
X-APPLE-STRUCTURED-LOCATION;VALUE=URI;X-ADDRESS=6 rue des Hodges\, Rambaud\
 , Marigot\, Saint Martin\, 97150\, SaintMartin\, Guadeloupe;X-APPLE-RADIUS
 =100;X-TITLE=978 Sanctorum:geo:0,0
END:VEVENT
BEGIN:VTIMEZONE
TZID:America/St_Barthelemy
X-LIC-LOCATION:America/St_Barthelemy
BEGIN:STANDARD
DTSTART:20190201T200000
TZOFFSETFROM:-0400
TZOFFSETTO:-0400
TZNAME:AST
END:STANDARD
END:VTIMEZONE
END:VCALENDAR