BEGIN:VCALENDAR
VERSION:2.0
PRODID:-//wp-events-plugin.com//7.2.3.1//EN
TZID:Europe/Paris
X-WR-TIMEZONE:Europe/Paris
BEGIN:VEVENT
UID:3257@bananierbleu.fr
DTSTART;TZID=Europe/Paris:20220215T200000
DTEND;TZID=Europe/Paris:20220215T200000
DTSTAMP:20220105T142306Z
URL:https://bananierbleu.fr/concerts-test/christian-laviso-trio-invite-dav
 id-murray/
SUMMARY:Christian Laviso Trio invite David Murray - Théâtre Claude Debuss
 y - 15 Fév 22 20:00
DESCRIPTION:[Festival Sons d'Hiver] En Guadeloupe\, le syncrétisme est bou
 illonnant. Le jazz\, musique créole\, débarque et fait face à la vivaci
 té revendiquée des formes traditionnelles\, notamment le Gwo-Ka. Né à 
 Pointe-à-Pitre\, Christian Laviso recopie d’abord les chants traditionn
 els\, croise la conscience de Napoléon Magloire et Guy Conquet\, impose l
 a guitare dans le monde des veillées des maîtres de Ka. Du bœuf au choc
  préliminaire avec les standards modernes de l’improvisation. Les renco
 ntres avec David Murray\, Phaorah Sanders et Kenny Garrett ne feront que r
 enforcer l’esprit libre d’un musicien jamais enfermé dans son insular
 ité.\n\n 	Christian Laviso guitare\, voix\n 	Aldo Middleton percussions\n
  	Sonny Troupé batterie\, voix\n 	+ David Murray saxophone\n
ATTACH;FMTTYPE=image/jpeg:https://bananierbleu.fr/wp-content/uploads/2022/
 01/Christian-Laviso.jpg
CATEGORIES:Concerts en France
LOCATION:Théâtre Claude Debussy\, 116\, avenue du Général de Gaulle\, M
 aisons-Alfort\, Île de France\, 94700\, IleDeFrance\, France
X-APPLE-STRUCTURED-LOCATION;VALUE=URI;X-ADDRESS=116\, avenue du Général d
 e Gaulle\, Maisons-Alfort\, Île de France\, 94700\, IleDeFrance\, France;
 X-APPLE-RADIUS=100;X-TITLE=Théâtre Claude Debussy:geo:0,0
END:VEVENT
BEGIN:VTIMEZONE
TZID:Europe/Paris
X-LIC-LOCATION:Europe/Paris
BEGIN:STANDARD
DTSTART:20211031T020000
TZOFFSETFROM:+0200
TZOFFSETTO:+0100
TZNAME:CET
END:STANDARD
END:VTIMEZONE
END:VCALENDAR