BEGIN:VCALENDAR
VERSION:2.0
PRODID:-//wp-events-plugin.com//7.2.3.1//EN
TZID:Europe/Paris
X-WR-TIMEZONE:Europe/Paris
BEGIN:VEVENT
UID:270@bananierbleu.fr
DTSTART;TZID=Europe/Paris:20120917T203000
DTEND;TZID=Europe/Paris:20120917T230000
DTSTAMP:20120725T135235Z
URL:https://bananierbleu.fr/concerts-test/christina-goh/
SUMMARY:Christina Goh -  - 17 Sep 12 20:30
DESCRIPTION:Avant première - Christina Goh en concert pour la sortie de l'
 album Fusion
CATEGORIES:Concerts en France
LOCATION:\, \, 
X-APPLE-STRUCTURED-LOCATION;VALUE=URI;X-ADDRESS=\, ;X-APPLE-RADIUS=100;X-TI
 TLE=:geo:0,0
END:VEVENT
BEGIN:VTIMEZONE
TZID:Europe/Paris
X-LIC-LOCATION:Europe/Paris
BEGIN:DAYLIGHT
DTSTART:20120325T030000
TZOFFSETFROM:+0100
TZOFFSETTO:+0200
TZNAME:CEST
END:DAYLIGHT
END:VTIMEZONE
END:VCALENDAR