BEGIN:VCALENDAR
VERSION:2.0
PRODID:-//wp-events-plugin.com//7.2.3.1//EN
TZID:Europe/Paris
X-WR-TIMEZONE:Europe/Paris
BEGIN:VEVENT
UID:521@bananierbleu.fr
DTSTART;TZID=Europe/Paris:20130702T210000
DTEND;TZID=Europe/Paris:20130702T210000
DTSTAMP:20130511T102712Z
URL:https://bananierbleu.fr/concerts-test/chyco-simeon-2/
SUMMARY:Chyco Simeon - la Reine Blanche - 2 Juil 13 21:00
DESCRIPTION:
CATEGORIES:Concerts en France
LOCATION:la Reine Blanche\, 2 bis passage ruelle\, Paris\, 75018\, France
GEO:48.8867328;2.359029200000009
X-APPLE-STRUCTURED-LOCATION;VALUE=URI;X-ADDRESS=2 bis passage ruelle\, Pari
 s\, 75018\, France;X-APPLE-RADIUS=100;X-TITLE=la Reine Blanche:geo:48.8867
 328,2.359029200000009
END:VEVENT
BEGIN:VTIMEZONE
TZID:Europe/Paris
X-LIC-LOCATION:Europe/Paris
BEGIN:DAYLIGHT
DTSTART:20130331T030000
TZOFFSETFROM:+0100
TZOFFSETTO:+0200
TZNAME:CEST
END:DAYLIGHT
END:VTIMEZONE
END:VCALENDAR