BEGIN:VCALENDAR
VERSION:2.0
PRODID:-//wp-events-plugin.com//7.2.3.1//EN
TZID:Europe/Paris
X-WR-TIMEZONE:Europe/Paris
BEGIN:VEVENT
UID:3091@bananierbleu.fr
DTSTART;TZID=Europe/Paris:20200213T204500
DTEND;TZID=Europe/Paris:20200213T204500
DTSTAMP:20200115T091313Z
URL:https://bananierbleu.fr/concerts-test/cityjazzy-akoda/
SUMMARY:[CityJazzy] Akoda - Hôtel Cordouan Thalazur - 13 Fév 20 20:45
DESCRIPTION:AKODA\, c’est une osmose entre trois musiciens passionnés pa
 r les rythmes antillais\, réunionnais et toutes les palettes jazz. Un cla
 vier\, une basse\, et un set de percussions s’expriment autour des compo
 sitions de Valérie Chane Tef. Cette aventure a vu se développer une bell
 e complicité et maturité artistique\, le trio aime varier les plaisirs d
 ans une énergie colorée\, dont découle une musique entrainante.\n\nAvec
  Valérie Chane-Tef\, Franck Leymerégie et Benjamin Pellier
ATTACH;FMTTYPE=image/jpeg:https://bananierbleu.fr/wp-content/uploads/2020/
 01/Akoda_Royan.jpg
CATEGORIES:Concerts en France
LOCATION:Hôtel Cordouan Thalazur\, 4 allée des Rochers\, Royan\, Nouvelle
 -Aquitaine\, 17200\, NouvelleAquitaine\, France
X-APPLE-STRUCTURED-LOCATION;VALUE=URI;X-ADDRESS=4 allée des Rochers\, Roya
 n\, Nouvelle-Aquitaine\, 17200\, NouvelleAquitaine\, France;X-APPLE-RADIUS
 =100;X-TITLE=Hôtel Cordouan Thalazur:geo:0,0
END:VEVENT
BEGIN:VTIMEZONE
TZID:Europe/Paris
X-LIC-LOCATION:Europe/Paris
BEGIN:STANDARD
DTSTART:20191027T020000
TZOFFSETFROM:+0200
TZOFFSETTO:+0100
TZNAME:CET
END:STANDARD
END:VTIMEZONE
END:VCALENDAR