BEGIN:VCALENDAR
VERSION:2.0
PRODID:-//wp-events-plugin.com//7.2.3.1//EN
TZID:Europe/Paris
X-WR-TIMEZONE:Europe/Paris
BEGIN:VEVENT
UID:3928@bananierbleu.fr
DTSTART;TZID=Europe/Paris:20250329T210000
DTEND;TZID=Europe/Paris:20250329T210000
DTSTAMP:20250326T104014Z
URL:https://bananierbleu.fr/concerts-test/clelya-abraham-5/
SUMMARY:Clélya Abraham - Le JAM - 29 Mar 25 21:00
DESCRIPTION:\n 	Personnel : Clélya Abraham (piano\, chant)\, Jean-Baptiste
  Loutte (batterie)\, Kévin Lazakis (guitare)\, Samuel F’hima (contrebas
 se)\n 	Présentation : Le Clélya Abraham Quartet fusionne les musiques ca
 ribéennes\, réunionnaises\, classiques et le jazz moderne. Le groupe\, l
 auréat 2023 des Grands Prix de l'UNAC\, offre des improvisations surprena
 ntes pour une expérience enrichissante.\n
ATTACH;FMTTYPE=image/jpeg:https://bananierbleu.fr/wp-content/uploads/2025/
 03/250329-Clelya.jpg
CATEGORIES:Concerts en France
LOCATION:Le JAM\, 100 rue Ferdinand de Lesseps\, Montpellier\, Occitanie\, 
 34000\, Occitanie\, France
GEO:43.5936252;3.8783366000000115
X-APPLE-STRUCTURED-LOCATION;VALUE=URI;X-ADDRESS=100 rue Ferdinand de Lessep
 s\, Montpellier\, Occitanie\, 34000\, Occitanie\, France;X-APPLE-RADIUS=10
 0;X-TITLE=Le JAM:geo:43.5936252,3.8783366000000115
END:VEVENT
BEGIN:VTIMEZONE
TZID:Europe/Paris
X-LIC-LOCATION:Europe/Paris
BEGIN:STANDARD
DTSTART:20241027T020000
TZOFFSETFROM:+0200
TZOFFSETTO:+0100
TZNAME:CET
END:STANDARD
END:VTIMEZONE
END:VCALENDAR