BEGIN:VCALENDAR
VERSION:2.0
PRODID:-//wp-events-plugin.com//7.2.3.1//EN
TZID:Europe/Paris
X-WR-TIMEZONE:Europe/Paris
BEGIN:VEVENT
UID:3814@bananierbleu.fr
DTSTART;TZID=Europe/Paris:20240523T210000
DTEND;TZID=Europe/Paris:20240523T210000
DTSTAMP:20240512T103342Z
URL:https://bananierbleu.fr/concerts-test/clelya-abraham-quartet-irina-gon
 zalez/
SUMMARY:Clélya Abraham Quartet + Irina González - le Taquin - 23 Mai 24 2
 1:00
DESCRIPTION:Clélya Abraham Quartet\nSubtil mélange d’univers variés\, 
 le Clélya Abraham Quartet nous plonge au carrefour des musiques caribéen
 nes\, réunionnaises\, du classique et du jazz moderne. Loin d’être fig
 é\, ce Quartet laisse libre cours à l’imagination de chacun et aux imp
 rovisations\, pour surprendre à chaque instant le public et lui offrir un
 e expérience d’enrichissement partagé.\n\nLes compositions originales 
 concoctées par Clélya Abraham pour ce quartet\, sont influencées par de
  nombreux artistes (Robert Glasper\, Tigran Hamasayan\, Jerry Léonide\, A
 rnaud Dolmen\, Avishai Cohen\, Pat Metheny\, Mario Canonge\, Claude Debuss
 y…) et s’inspirent également de l’univers musical cinématographiqu
 e. Un instrument essentiel vient aussi s’ajouter à ce paysage\, sa voix
 \, qui vient par moment doubler des thèmes puissants\, avec ou sans parol
 es.\n\nLine Up:\nClélya Abraham (Piano/voix)\nKevin Lazakis (guitare)\nSa
 muel F’hima (Contrebasse)\nJean Baptiste Loutte (batterie)\nIrina Gonzá
 lez\nNée à Santa Clara (Cuba)\, Irina González appartient au mouvement 
 cubain de la Novísima Trova (nouvelle chanson cubaine). Depuis que Cuba s
 ’est ouverte la Novísima Trova accueille les rythmes du monde. Les mét
 aphores ingénieuses de ses chansons sont accompagnées de rythmes Jazz\, 
 samba et Bossa\, métissées aux sonorités yoruba\, chants sacrés de la 
 culture afro-cubaine.\n\nEn 2012 elle s’installe en France et tourne dan
 s des festivals réputés à travers l’Europe\, notamment en tant que ch
 anteuse\, arrangeuse et clarinettiste du groupe El Gato Négro mais égale
 ment sur ses propres titres\, dont elle enregistrera le premier ep en 2016
 .\n\nPetit à petit elle échafaude une discographie riche\, qui fait le p
 ont entre Cuba\, le Brésil et la France\, mêlant chanson populaire et ch
 ant sacré.\n\nAvec Tiempo (2022) son 3e album\, Irina González\, son én
 ergie communicative et positive nous fait voyager dans un univers dansant 
 et chaleureux avec son quartet aux sonorités jazzy\, afro-latines et cari
 béennes. Les chansons célèbrent la douceur de vivre\, mais aussi l’am
 our et le quotidien\, parfois amers… Les musiciens s’accordent parfait
 ement à l’univers d’Irina\, flirtant sans cesse avec les rythmes des 
 Caraïbes et du Brésil\, tels que la guajira\, le son cubain\, le boléro
 \, la samba et la bossa nova.\n\nLine Up:\nIrina González (chant\, guitar
 e\, flûte)\nLouis Navarro (Contrebasse)\n\n11€ tarif plein\n7€ tarif 
 réduit (étudiants\, demandeurs d’emploi\, bénéficiaires du RSA\, tit
 ulaires de l’AAH sur présentation de justificatif)\nCONCERT DEBOUT
ATTACH;FMTTYPE=image/jpeg:https://bananierbleu.fr/wp-content/uploads/2024/
 05/clelyagonzalez.png
CATEGORIES:Concerts en France
LOCATION:le Taquin\, 23 rue des Amidonniers\, Toulouse\, Occitanie\, 31000\
 , Occitanie\, France
X-APPLE-STRUCTURED-LOCATION;VALUE=URI;X-ADDRESS=23 rue des Amidonniers\, To
 ulouse\, Occitanie\, 31000\, Occitanie\, France;X-APPLE-RADIUS=100;X-TITLE
 =le Taquin:geo:0,0
END:VEVENT
BEGIN:VTIMEZONE
TZID:Europe/Paris
X-LIC-LOCATION:Europe/Paris
BEGIN:DAYLIGHT
DTSTART:20240331T030000
TZOFFSETFROM:+0100
TZOFFSETTO:+0200
TZNAME:CEST
END:DAYLIGHT
END:VTIMEZONE
END:VCALENDAR