BEGIN:VCALENDAR
VERSION:2.0
PRODID:-//wp-events-plugin.com//7.2.3.1//EN
TZID:Europe/Paris
X-WR-TIMEZONE:Europe/Paris
BEGIN:VEVENT
UID:3796@bananierbleu.fr
DTSTART;TZID=Europe/Paris:20240503T210000
DTEND;TZID=Europe/Paris:20240503T210000
DTSTAMP:20240325T164212Z
URL:https://bananierbleu.fr/concerts-test/coco-mbassi-project-2/
SUMMARY:Coco Mbassi Project - le Baiser Salé - 3 Mai 24 21:00
DESCRIPTION:\n\nCOCO MBASSI voix\nVALÉRIE COLAU LORENTZ chœurs\nKEVIN HAR
 RIS chœurs\nGEORGES GRANVILLE piano\nPATRICK MANOUGUIAN guitare\nTHIERRY 
 JASMIN-BANARÉ basse\nHADRIEN SANTOS DA SILVA batterie\n\n\nChanteuse à l
 a voix douce et suave qui fusionne des influences africaines\, jazz\, soul
 \, gospel\, et des touches baroques et classiques\, Coco Mbassi nous invit
 e à un voyage musical universel. Empreinte d'amour\, qui transcende les f
 rontières culturelles\, sa voix polyvalente a conquis des générations d
 e fans à travers le monde : 30 ans de carrière\, 4 albums\, un single et
  un EP.\nAu cours des années elle ne cesse de nous surprendre ! Productri
 ce\, traductrice\, docteure en sociolinguistique\, autrice\, sidewoman de 
 nombreux artistes aux influences diverses : Salif Keita\, Aladji Touré ou
  encore Florent Pagny…La chanteuse et compositrice camerounaise a de mul
 tiples facettes.
ATTACH;FMTTYPE=image/jpeg:https://bananierbleu.fr/wp-content/uploads/2024/
 03/309-Coco-Mbassi.jpeg
CATEGORIES:Concerts en France
LOCATION:le Baiser Salé\, 58\, rue des Lombards\, Paris\, Île de France\,
  75001\, IleDeFrance\, France
GEO:48.8598;2.34791
X-APPLE-STRUCTURED-LOCATION;VALUE=URI;X-ADDRESS=58\, rue des Lombards\, Par
 is\, Île de France\, 75001\, IleDeFrance\, France;X-APPLE-RADIUS=100;X-TI
 TLE=le Baiser Salé:geo:48.8598,2.34791
END:VEVENT
BEGIN:VTIMEZONE
TZID:Europe/Paris
X-LIC-LOCATION:Europe/Paris
BEGIN:DAYLIGHT
DTSTART:20240331T030000
TZOFFSETFROM:+0100
TZOFFSETTO:+0200
TZNAME:CEST
END:DAYLIGHT
END:VTIMEZONE
END:VCALENDAR