BEGIN:VCALENDAR
VERSION:2.0
PRODID:-//wp-events-plugin.com//7.2.3.1//EN
TZID:Europe/Paris
X-WR-TIMEZONE:Europe/Paris
BEGIN:VEVENT
UID:2152@bananierbleu.fr
DTSTART;TZID=Europe/Paris:20170318T203000
DTEND;TZID=Europe/Paris:20170318T203000
DTSTAMP:20170314T114512Z
URL:https://bananierbleu.fr/concerts-test/concert-jam/
SUMMARY:Concert + Jam - La Créole Jazz Club - 18 Mar 17 20:30
DESCRIPTION:Retrouvez la Jam du mois\, dans le cadre de notre Jazz Week-end
 . Une soirée en deux sets\, où tous les goûts seront permis. La Jam inv
 ite Karine Pentier (chant) et Jérémie César (sax). Venez faire la fête
  !\n\nJérémie César (sax)\nNicolas Attié (guitare)\nKristof Négrit (b
 atterie)\nGrégory Bhiki (claviers)\nKarine Pentier (chant)\nDominiq Mirva
 l (basse)
ATTACH;FMTTYPE=image/jpeg:https://bananierbleu.fr/wp-content/uploads/2017/
 03/17212046_1370503973012833_3485370284466004599_o.jpg
CATEGORIES:Concerts en Guadeloupe
LOCATION:La Créole Jazz Club\, Pointe de la Verdure\, Le Gosier\, Guadelou
 pe\, 97190\, Guadeloupe\, Guadeloupe
GEO:16.206832;-61.50359980000002
X-APPLE-STRUCTURED-LOCATION;VALUE=URI;X-ADDRESS=Pointe de la Verdure\, Le G
 osier\, Guadeloupe\, 97190\, Guadeloupe\, Guadeloupe;X-APPLE-RADIUS=100;X-
 TITLE=La Créole Jazz Club:geo:16.206832,-61.50359980000002
END:VEVENT
BEGIN:VTIMEZONE
TZID:Europe/Paris
X-LIC-LOCATION:Europe/Paris
BEGIN:STANDARD
DTSTART:20161030T020000
TZOFFSETFROM:+0200
TZOFFSETTO:+0100
TZNAME:CET
END:STANDARD
END:VTIMEZONE
END:VCALENDAR