BEGIN:VCALENDAR
VERSION:2.0
PRODID:-//wp-events-plugin.com//7.2.3.1//EN
TZID:Europe/Paris
X-WR-TIMEZONE:Europe/Paris
BEGIN:VEVENT
UID:3770@bananierbleu.fr
DTSTART;TZID=Europe/Paris:20240228T200000
DTEND;TZID=Europe/Paris:20240228T200000
DTSTAMP:20240228T095911Z
URL:https://bananierbleu.fr/concerts-test/cool-jazz-quartet-2/
SUMMARY:Cool Jazz Quartet - New Ti'Paris - 28 Fév 24 20:00
DESCRIPTION:Nsemi Yao Ngo BONI (piano)\nRégis THERESE(bass)\nXav RICHARD
 ’O (Saxophone)\nMichel MONPIERRE (Drums)\nParticipation 10€
ATTACH;FMTTYPE=image/jpeg:https://bananierbleu.fr/wp-content/uploads/2024/
 02/CoolJazz4tet.jpg
CATEGORIES:Concerts en Guadeloupe
LOCATION:New Ti'Paris\, Perinet\, Le Gosier\, Guadeloupe\, 97190\, Guadelou
 pe\, Guadeloupe
GEO:16.2077962;-61.48492470000002
X-APPLE-STRUCTURED-LOCATION;VALUE=URI;X-ADDRESS=Perinet\, Le Gosier\, Guade
 loupe\, 97190\, Guadeloupe\, Guadeloupe;X-APPLE-RADIUS=100;X-TITLE=New Ti'
 Paris:geo:16.2077962,-61.48492470000002
END:VEVENT
BEGIN:VTIMEZONE
TZID:Europe/Paris
X-LIC-LOCATION:Europe/Paris
BEGIN:STANDARD
DTSTART:20231029T020000
TZOFFSETFROM:+0200
TZOFFSETTO:+0100
TZNAME:CET
END:STANDARD
END:VTIMEZONE
END:VCALENDAR