BEGIN:VCALENDAR
VERSION:2.0
PRODID:-//wp-events-plugin.com//7.2.3.1//EN
TZID:Europe/Paris
X-WR-TIMEZONE:Europe/Paris
BEGIN:VEVENT
UID:518@bananierbleu.fr
DTSTART;TZID=Europe/Paris:20130508T210000
DTEND;TZID=Europe/Paris:20130508T210000
DTSTAMP:20130504T164903Z
URL:https://bananierbleu.fr/concerts-test/corinne-pierre-fanfan/
SUMMARY:Corinne Pierre-Fanfan - la Reine Blanche - 8 Mai 13 21:00
DESCRIPTION:Univers roots &amp\; soul\, chaque titre comme un micro monde i
 nvite au voyage\, chaque voyage est traversé de sonorités qui s’offren
 t comme un cri\, comme une transe\, comme une danse. Ses chansons raconten
 t le voyage qu'est la vie. Corinne PIERRE-FANFAN esquisse un univers au ca
 rrefour entre rythmes traditionnels et contemporains. Aux élans de « fem
 me-Griot »\, elle offre un répertoire Fusion\, Jazz parfois teinté boss
 a nova\, blues et traversé de résonnances percussives. Une œuvre ouvert
 e\, a Creole Soul world. La portée de ses textes\, la couleur de sa musiq
 ue s’inspirent de ce\, ceux qui l’entourent.\n?http://www.billetreduc.
 com/89012/evt.htm\n? http://www.moxity.com/events/corinne-pierre-fanfan
CATEGORIES:Concerts en France
LOCATION:la Reine Blanche\, 2 bis passage ruelle\, Paris\, 75018\, France
GEO:48.8867328;2.359029200000009
X-APPLE-STRUCTURED-LOCATION;VALUE=URI;X-ADDRESS=2 bis passage ruelle\, Pari
 s\, 75018\, France;X-APPLE-RADIUS=100;X-TITLE=la Reine Blanche:geo:48.8867
 328,2.359029200000009
END:VEVENT
BEGIN:VTIMEZONE
TZID:Europe/Paris
X-LIC-LOCATION:Europe/Paris
BEGIN:DAYLIGHT
DTSTART:20130331T030000
TZOFFSETFROM:+0100
TZOFFSETTO:+0200
TZNAME:CEST
END:DAYLIGHT
END:VTIMEZONE
END:VCALENDAR