BEGIN:VCALENDAR
VERSION:2.0
PRODID:-//wp-events-plugin.com//7.2.3.1//EN
TZID:Europe/Paris
X-WR-TIMEZONE:Europe/Paris
BEGIN:VEVENT
UID:4050@bananierbleu.fr
DTSTART;TZID=Europe/Paris:20251212T203000
DTEND;TZID=Europe/Paris:20251212T203000
DTSTAMP:20251125T135002Z
URL:https://bananierbleu.fr/concerts-test/crafting-quintet/
SUMMARY:Crafting Quintet - Petit Théâtre Maurice Sarrazin - 12 Déc 25 20
 :30
DESCRIPTION:\n 	Personnel : Clélya Abraham (piano)\, Romain Habert (guitar
 e)\, Renan Richard (saxophone)\, Yves Marcotte (contrebasse)\, Jean-Baptis
 te Loutte (batterie\, chant)\n 	Présentation : Crafting Quintet est un co
 llectif de cinq musiciens et compositeurs\, unis par la création d’un u
 nivers onirique et imaginatif. Leur complicité sur scène permet de mettr
 e en valeur une musique riche et authentique\, mêlant improvisation et ac
 compagnement. Leur style moderne et énergique invite le public à partage
 r une expérience musicale en trois dimensions\, entre raffinement et équ
 ilibre sonore.\n
ATTACH;FMTTYPE=image/jpeg:https://bananierbleu.fr/wp-content/uploads/2025/
 11/Crafting_Quintet.avif
CATEGORIES:Concerts en France
LOCATION:Petit Théâtre Maurice Sarrazin\, 4 bis Quai de l'Adour\, Tarbes\
 , Occitanie\, 65000\, Occitanie\, France
X-APPLE-STRUCTURED-LOCATION;VALUE=URI;X-ADDRESS=4 bis Quai de l'Adour\, Tar
 bes\, Occitanie\, 65000\, Occitanie\, France;X-APPLE-RADIUS=100;X-TITLE=Pe
 tit Théâtre Maurice Sarrazin:geo:0,0
END:VEVENT
BEGIN:VTIMEZONE
TZID:Europe/Paris
X-LIC-LOCATION:Europe/Paris
BEGIN:STANDARD
DTSTART:20251026T020000
TZOFFSETFROM:+0200
TZOFFSETTO:+0100
TZNAME:CET
END:STANDARD
END:VTIMEZONE
END:VCALENDAR