BEGIN:VCALENDAR
VERSION:2.0
PRODID:-//wp-events-plugin.com//7.2.3.1//EN
TZID:Europe/Paris
X-WR-TIMEZONE:Europe/Paris
BEGIN:VEVENT
UID:3945@bananierbleu.fr
DTSTART;TZID=America/Guadeloupe:20250517T210000
DTEND;TZID=America/Guadeloupe:20250517T210000
DTSTAMP:20250424T125052Z
URL:https://bananierbleu.fr/concerts-test/creole-jazz-quartet/
SUMMARY:Creole Jazz Quartet - Axum Art Café - 17 Mai 25 21:00
DESCRIPTION:Truly a creole jazz love call with 2 very special guests! The o
 ne and only Longineu Parsons (trumpet) from USA\, and Max Fontes (acoustic
  bass) from Guadeloupe. With a young lion\, Kirby Louis-Jeune (drums) and 
 truly yours\, Christian Amour piano. Be there peeps\, on May 17 at Axum th
 e cozy spot for jazz !
ATTACH;FMTTYPE=image/jpeg:https://bananierbleu.fr/wp-content/uploads/2025/
 04/CreoleJazz4tet_Amour_Parsons.jpg
CATEGORIES:Concerts en Guadeloupe
LOCATION:Axum Art Café\, Voorstraat 7L\, Philipsburg\, Saint Martin\, Sain
 t Martin\, Guadeloupe
GEO:18.0229358;-63.04477459999998
X-APPLE-STRUCTURED-LOCATION;VALUE=URI;X-ADDRESS=Voorstraat 7L\, Philipsburg
 \, Saint Martin\, Saint Martin\, Guadeloupe;X-APPLE-RADIUS=100;X-TITLE=Axu
 m Art Café:geo:18.0229358,-63.04477459999998
END:VEVENT
BEGIN:VTIMEZONE
TZID:America/Guadeloupe
X-LIC-LOCATION:America/Guadeloupe
BEGIN:STANDARD
DTSTART:20240517T210000
TZOFFSETFROM:-0400
TZOFFSETTO:-0400
TZNAME:AST
END:STANDARD
END:VTIMEZONE
END:VCALENDAR