BEGIN:VCALENDAR
VERSION:2.0
PRODID:-//wp-events-plugin.com//7.2.3.1//EN
TZID:Europe/Paris
X-WR-TIMEZONE:Europe/Paris
BEGIN:VEVENT
UID:2375@bananierbleu.fr
DTSTART;TZID=Europe/Paris:20171124T210000
DTEND;TZID=Europe/Paris:20171124T210000
DTSTAMP:20170919T150446Z
URL:https://bananierbleu.fr/concerts-test/damnco/
SUMMARY:Dam'nco - Le JAM - 24 Nov 17 21:00
DESCRIPTION:dam’nco sera en concert au Jam à Montpellier le 24 novembre 
 2017.\n\nLe groupe Jouera des composition de son album ‘From Paris With 
 Love’&nbsp\;ainsi que de son prochain album French Touch Qui sortira en 
 mars 2018.\n\nRéserver vos billets ICI\n\nBatterie Damien Schmitt\n\nClav
 ier Nicholas Vella\n\nClavier Michael Lecoq\n\nGuitare Yann Negrit\n\nBass
  Romain Labaye
ATTACH;FMTTYPE=image/jpeg:https://bananierbleu.fr/wp-content/uploads/2017/
 09/SLIDER-damnco-groupe-live-1920x746-1600x622.jpg
CATEGORIES:Concerts en France
LOCATION:Le JAM\, 100 rue Ferdinand de Lesseps\, Montpellier\, Occitanie\, 
 34000\, Occitanie\, France
GEO:43.5936252;3.8783366000000115
X-APPLE-STRUCTURED-LOCATION;VALUE=URI;X-ADDRESS=100 rue Ferdinand de Lessep
 s\, Montpellier\, Occitanie\, 34000\, Occitanie\, France;X-APPLE-RADIUS=10
 0;X-TITLE=Le JAM:geo:43.5936252,3.8783366000000115
END:VEVENT
BEGIN:VTIMEZONE
TZID:Europe/Paris
X-LIC-LOCATION:Europe/Paris
BEGIN:STANDARD
DTSTART:20171029T020000
TZOFFSETFROM:+0200
TZOFFSETTO:+0100
TZNAME:CET
END:STANDARD
END:VTIMEZONE
END:VCALENDAR