BEGIN:VCALENDAR
VERSION:2.0
PRODID:-//wp-events-plugin.com//7.2.3.1//EN
TZID:Europe/Paris
X-WR-TIMEZONE:Europe/Paris
BEGIN:VEVENT
UID:255@bananierbleu.fr
DTSTART;TZID=Europe/Paris:20120707T213000
DTEND;TZID=Europe/Paris:20120707T230000
DTSTAMP:20120624T154802Z
URL:https://bananierbleu.fr/concerts-test/deldongo-quartet-jazz-hommage-a-
 djavan/
SUMMARY:Deldongo Quartet Jazz “hommage à Djavan” -  - 7 Juil 12 21:30
DESCRIPTION:Deldongo – piano\, voix \; Pierre Lamy – guitare \; Kevon R
 eveyrand – basse \; Francis Arnaud - basse\nPianiste atypique et complet
 \, Deldongo est considéré aujourd’hui comme le pionnier de la frenchy 
 Salsa en Amerique du Sud et dans les Caraibes. Aujourd’hui\, playlisté 
 sur les radios américaines\, il est le premier artiste français à avoir
  été invité et considéré comme un spécialiste de cette musique. Ayan
 t chanté en duo avec Cheo Feliciano à Puerto rico et avec le Gran Combo 
 de Puertorico « Deldongo » a été aussi l’accompagnateur au piano d
 ’artistes tels que : Azuquita\, Gypsy King\, Los Reyes.. Une nouveauté 
 caliente.
CATEGORIES:Concerts en France
LOCATION:\, \, 
X-APPLE-STRUCTURED-LOCATION;VALUE=URI;X-ADDRESS=\, ;X-APPLE-RADIUS=100;X-TI
 TLE=:geo:0,0
END:VEVENT
BEGIN:VTIMEZONE
TZID:Europe/Paris
X-LIC-LOCATION:Europe/Paris
BEGIN:DAYLIGHT
DTSTART:20120325T030000
TZOFFSETFROM:+0100
TZOFFSETTO:+0200
TZNAME:CEST
END:DAYLIGHT
END:VTIMEZONE
END:VCALENDAR