BEGIN:VCALENDAR
VERSION:2.0
PRODID:-//wp-events-plugin.com//7.2.3.1//EN
TZID:Europe/Paris
X-WR-TIMEZONE:Europe/Paris
BEGIN:VEVENT
UID:2378@bananierbleu.fr
DTSTART;TZID=Europe/Paris:20170922T203000
DTEND;TZID=Europe/Paris:20170922T203000
DTSTAMP:20170922T161833Z
URL:https://bananierbleu.fr/concerts-test/dominik-coco-his-kako-band/
SUMMARY:Dominik Coco & his Kako band -  - 22 Sep 17 20:30
DESCRIPTION:Nou sòti viv dé moman byen rèd. Si on biten pé dousi pen an
  nou sé mizik a Dominik COCO. Dominik Coco !\n\nCARTE BLANCHE Vendredi 22
  &amp\; Samedi 23 &amp\; Dimanche 24 Septembre à 20h30 - With his KAKO BA
 ND: Stevie LANDRE\, Willy JEAN\, Valery ENTIOPE\, Jonathan JURION\, Kévin
  TORIS and guests friends ! KAKO MIZIK. Réservations: 05 90 88 43 20 / 06
  90 71 88 37
ATTACH;FMTTYPE=image/jpeg:https://bananierbleu.fr/wp-content/uploads/2017/
 09/coco.jpg
CATEGORIES:Concerts en Guadeloupe
LOCATION:\, \, 
X-APPLE-STRUCTURED-LOCATION;VALUE=URI;X-ADDRESS=\, ;X-APPLE-RADIUS=100;X-TI
 TLE=:geo:0,0
END:VEVENT
BEGIN:VTIMEZONE
TZID:Europe/Paris
X-LIC-LOCATION:Europe/Paris
BEGIN:DAYLIGHT
DTSTART:20170326T030000
TZOFFSETFROM:+0100
TZOFFSETTO:+0200
TZNAME:CEST
END:DAYLIGHT
END:VTIMEZONE
END:VCALENDAR