BEGIN:VCALENDAR
VERSION:2.0
PRODID:-//wp-events-plugin.com//7.2.3.1//EN
TZID:Europe/Paris
X-WR-TIMEZONE:Europe/Paris
BEGIN:VEVENT
UID:2680@bananierbleu.fr
DTSTART;TZID=America/Guadeloupe:20180825T200000
DTEND;TZID=America/Guadeloupe:20180825T200000
DTSTAMP:20180821T110615Z
URL:https://bananierbleu.fr/concerts-test/duo-jocelyn-menard-max-fontes/
SUMMARY:Duo Jocelyn Ménard / Max Fontès - D'lo An Bouch - 25 Août 18 20:
 00
DESCRIPTION:D'lo An Bouch fait son Jazz. Avec Jocelyn Ménard (sax) & Max F
 ontès (cb).
ATTACH;FMTTYPE=image/jpeg:https://bananierbleu.fr/wp-content/uploads/2018/
 08/38924272_1690254507745456_3651021839993405440_n.jpg
CATEGORIES:Concerts en Guadeloupe
LOCATION:D'lo An Bouch\, Port de Vieux-Bourg\, Morne à l'Eau\, Guadeloupe\
 , 97111\, Guadeloupe\, France
GEO:16.342676;-61.51088400000003
X-APPLE-STRUCTURED-LOCATION;VALUE=URI;X-ADDRESS=Port de Vieux-Bourg\, Morne
  à l'Eau\, Guadeloupe\, 97111\, Guadeloupe\, France;X-APPLE-RADIUS=100;X-
 TITLE=D'lo An Bouch:geo:16.342676,-61.51088400000003
END:VEVENT
BEGIN:VTIMEZONE
TZID:America/Guadeloupe
X-LIC-LOCATION:America/Guadeloupe
BEGIN:STANDARD
DTSTART:20170825T200000
TZOFFSETFROM:-0400
TZOFFSETTO:-0400
TZNAME:AST
END:STANDARD
END:VTIMEZONE
END:VCALENDAR