BEGIN:VCALENDAR
VERSION:2.0
PRODID:-//wp-events-plugin.com//7.2.3.1//EN
TZID:Europe/Paris
X-WR-TIMEZONE:Europe/Paris
BEGIN:VEVENT
UID:2178@bananierbleu.fr
DTSTART;TZID=Europe/Paris:20170331T203000
DTEND;TZID=Europe/Paris:20170331T203000
DTSTAMP:20170330T102627Z
URL:https://bananierbleu.fr/concerts-test/eklektik/
SUMMARY:Éklektik - La Créole Jazz Club - 31 Mar 17 20:30
DESCRIPTION:Retrouvez le groupe Éklektik sur la scène de la Créole Jazz 
 Club. Laissez-vous tenter par une invitation au voyage à travers les cont
 rées et les temps\, du Brésil à La Nouvelle Orléans\, en passant par l
 'Arc Antillais et Les Amériques. Une échappée musicale qui ne manquera 
 pas de vous transporter.\n\nPatrick Datil (batterie)\nGuy Datil (basse)\nM
 arius Hauterville (guitare)\nClivia Christina (chant)\nPhilippe Desprez (C
 laviers)\nRobert Dorzile (saxophone)
ATTACH;FMTTYPE=image/jpeg:https://bananierbleu.fr/wp-content/uploads/2017/
 03/17632247_1384065424990021_129282056922270266_o.jpg
CATEGORIES:Concerts en Guadeloupe
LOCATION:La Créole Jazz Club\, Pointe de la Verdure\, Le Gosier\, Guadelou
 pe\, 97190\, Guadeloupe\, Guadeloupe
GEO:16.206832;-61.50359980000002
X-APPLE-STRUCTURED-LOCATION;VALUE=URI;X-ADDRESS=Pointe de la Verdure\, Le G
 osier\, Guadeloupe\, 97190\, Guadeloupe\, Guadeloupe;X-APPLE-RADIUS=100;X-
 TITLE=La Créole Jazz Club:geo:16.206832,-61.50359980000002
END:VEVENT
BEGIN:VTIMEZONE
TZID:Europe/Paris
X-LIC-LOCATION:Europe/Paris
BEGIN:DAYLIGHT
DTSTART:20170326T030000
TZOFFSETFROM:+0100
TZOFFSETTO:+0200
TZNAME:CEST
END:DAYLIGHT
END:VTIMEZONE
END:VCALENDAR